BEGIN:VCALENDAR
VERSION:2.0
PRODID:-//spbstu.ru//ical//RU
NAME:Расписание группы 3231302/40005
X-WR-CALNAME:Расписание группы 3231302/40005
TIMEZONE-ID:Europe/Moscow
X-WR-TIMEZONE:Europe/Moscow
BEGIN:VEVENT
UID:y1bh@192.168.245.71:3006
SEQUENCE:0
DTSTAMP:20260425T023708Z
DTSTART:20250929T070000Z
DTEND:20250929T084000Z
SUMMARY:Компьютерные технологии
LOCATION:ГЗ 224
END:VEVENT
BEGIN:VEVENT
UID:dygz@192.168.245.71:3006
SEQUENCE:0
DTSTAMP:20260425T023708Z
DTSTART:20250929T090000Z
DTEND:20250929T104000Z
SUMMARY:Теоретическая механика
LOCATION:ГЗ 180
END:VEVENT
BEGIN:VEVENT
UID:mbm0@192.168.245.71:3006
SEQUENCE:0
DTSTAMP:20260425T023708Z
DTSTART:20250929T110000Z
DTEND:20250929T124000Z
SUMMARY:Высшая математика
LOCATION:ГЗ 255
END:VEVENT
BEGIN:VEVENT
UID:e6uq@192.168.245.71:3006
SEQUENCE:0
DTSTAMP:20260425T023708Z
DTSTART:20250930T070000Z
DTEND:20250930T084000Z
SUMMARY:Промышленная электроника
LOCATION:ГЗ 284
END:VEVENT
BEGIN:VEVENT
UID:r0uc@192.168.245.71:3006
SEQUENCE:0
DTSTAMP:20260425T023708Z
DTSTART:20250930T090000Z
DTEND:20250930T104000Z
SUMMARY:Промышленная электроника
LOCATION:ТВН 304
END:VEVENT
BEGIN:VEVENT
UID:kjdj@192.168.245.71:3006
SEQUENCE:0
DTSTAMP:20260425T023708Z
DTSTART:20250930T090000Z
DTEND:20250930T104000Z
SUMMARY:Промышленная электроника
LOCATION:ТВН 304
END:VEVENT
BEGIN:VEVENT
UID:vin3@192.168.245.71:3006
SEQUENCE:0
DTSTAMP:20260425T023708Z
DTSTART:20250930T110000Z
DTEND:20250930T124000Z
SUMMARY:Элективная физическая культура и спорт
LOCATION:СК Секции
END:VEVENT
BEGIN:VEVENT
UID:yfjg@192.168.245.71:3006
SEQUENCE:0
DTSTAMP:20260425T023708Z
DTSTART:20251001T070000Z
DTEND:20251001T084000Z
SUMMARY:Иностранный язык: Базовый курс
LOCATION:ГЗ 222
END:VEVENT
BEGIN:VEVENT
UID:x8ft@192.168.245.71:3006
SEQUENCE:0
DTSTAMP:20260425T023708Z
DTSTART:20251001T090000Z
DTEND:20251001T104000Z
SUMMARY:Теоретические основы электротехники
LOCATION:ГЗ 257
END:VEVENT
BEGIN:VEVENT
UID:dzl5@192.168.245.71:3006
SEQUENCE:0
DTSTAMP:20260425T023708Z
DTSTART:20251001T110000Z
DTEND:20251001T124000Z
SUMMARY:Прикладная механика
LOCATION:ГЗ 181
END:VEVENT
BEGIN:VEVENT
UID:i8tq@192.168.245.71:3006
SEQUENCE:0
DTSTAMP:20260425T023708Z
DTSTART:20251001T130000Z
DTEND:20251001T144000Z
SUMMARY:Модуль саморазвития (SoftSkills)
LOCATION:DL Дистанционно
END:VEVENT
BEGIN:VEVENT
UID:yp23@192.168.245.71:3006
SEQUENCE:0
DTSTAMP:20260425T023708Z
DTSTART:20251002T070000Z
DTEND:20251002T084000Z
SUMMARY:История России
LOCATION:ГЗ 182
END:VEVENT
BEGIN:VEVENT
UID:7onx@192.168.245.71:3006
SEQUENCE:0
DTSTAMP:20260425T023708Z
DTSTART:20251002T090000Z
DTEND:20251002T104000Z
SUMMARY:Теоретические основы электротехники
LOCATION:ГЗ 181
END:VEVENT
BEGIN:VEVENT
UID:0ior@192.168.245.71:3006
SEQUENCE:0
DTSTAMP:20260425T023708Z
DTSTART:20251002T110000Z
DTEND:20251002T124000Z
SUMMARY:История России
LOCATION:ГЗ 122
END:VEVENT
BEGIN:VEVENT
UID:jqau@192.168.245.71:3006
SEQUENCE:0
DTSTAMP:20260425T023708Z
DTSTART:20251003T070000Z
DTEND:20251003T084000Z
SUMMARY:Компьютерная графика
LOCATION:ВИТ 302
END:VEVENT
BEGIN:VEVENT
UID:srpm@192.168.245.71:3006
SEQUENCE:0
DTSTAMP:20260425T023708Z
DTSTART:20251003T090000Z
DTEND:20251003T104000Z
SUMMARY:Теоретическая механика
LOCATION:ГЗ 257
END:VEVENT
BEGIN:VEVENT
UID:zssh@192.168.245.71:3006
SEQUENCE:0
DTSTAMP:20260425T023708Z
DTSTART:20251003T110000Z
DTEND:20251003T124000Z
SUMMARY:Элективная физическая культура и спорт
LOCATION:СК Секции
END:VEVENT
BEGIN:VEVENT
UID:g9xc@192.168.245.71:3006
SEQUENCE:0
DTSTAMP:20260425T023708Z
DTSTART:20251004T060000Z
DTEND:20251004T083000Z
SUMMARY:Иностранный язык: Русский язык как иностранный
LOCATION:ГЗ 229
END:VEVENT
END:VCALENDAR