BEGIN:VCALENDAR
VERSION:2.0
PRODID:-//spbstu.ru//ical//RU
NAME:Расписание группы 3231302/40005
X-WR-CALNAME:Расписание группы 3231302/40005
TIMEZONE-ID:Europe/Moscow
X-WR-TIMEZONE:Europe/Moscow
BEGIN:VEVENT
UID:nvbp@192.168.245.71:3006
SEQUENCE:0
DTSTAMP:20260422T042658Z
DTSTART:20260302T070000Z
DTEND:20260302T084000Z
SUMMARY:Высшая математика (продвинутый уровень)
LOCATION:ГЗ 224
END:VEVENT
BEGIN:VEVENT
UID:1b71@192.168.245.71:3006
SEQUENCE:0
DTSTAMP:20260422T042658Z
DTSTART:20260302T090000Z
DTEND:20260302T104000Z
SUMMARY:Высшая математика (продвинутый уровень)
LOCATION:ГЗ 255
END:VEVENT
BEGIN:VEVENT
UID:gicb@192.168.245.71:3006
SEQUENCE:0
DTSTAMP:20260422T042658Z
DTSTART:20260302T110000Z
DTEND:20260302T124000Z
SUMMARY:Теоретические основы электротехники
LOCATION:ГЗ 254
END:VEVENT
BEGIN:VEVENT
UID:s5rb@192.168.245.71:3006
SEQUENCE:0
DTSTAMP:20260422T042658Z
DTSTART:20260303T070000Z
DTEND:20260303T084000Z
SUMMARY:Безопасность жизнедеятельности
LOCATION:ГК 104
END:VEVENT
BEGIN:VEVENT
UID:h3mg@192.168.245.71:3006
SEQUENCE:0
DTSTAMP:20260422T042658Z
DTSTART:20260303T090000Z
DTEND:20260303T104000Z
SUMMARY:Промышленная электроника
LOCATION:ГЗ 225
END:VEVENT
BEGIN:VEVENT
UID:0601@192.168.245.71:3006
SEQUENCE:0
DTSTAMP:20260422T042658Z
DTSTART:20260303T110000Z
DTEND:20260303T124000Z
SUMMARY:Элективная физическая культура и спорт
LOCATION:СК Секции
END:VEVENT
BEGIN:VEVENT
UID:m6g2@192.168.245.71:3006
SEQUENCE:0
DTSTAMP:20260422T042658Z
DTSTART:20260304T090000Z
DTEND:20260304T104000Z
SUMMARY:Теоретические основы электротехники
LOCATION:ГЗ 283
END:VEVENT
BEGIN:VEVENT
UID:iil3@192.168.245.71:3006
SEQUENCE:0
DTSTAMP:20260422T042658Z
DTSTART:20260304T110000Z
DTEND:20260304T124000Z
SUMMARY:Теоретические основы электротехники
LOCATION:ГЗ 254
END:VEVENT
BEGIN:VEVENT
UID:hjn7@192.168.245.71:3006
SEQUENCE:0
DTSTAMP:20260422T042658Z
DTSTART:20260304T130000Z
DTEND:20260304T144000Z
SUMMARY:Основы проектной деятельности
LOCATION:Мех. к. 9
END:VEVENT
BEGIN:VEVENT
UID:rzbh@192.168.245.71:3006
SEQUENCE:0
DTSTAMP:20260422T042658Z
DTSTART:20260305T070000Z
DTEND:20260305T084000Z
SUMMARY:Иностранный язык. Профессионально-ориентированный курс
LOCATION:ГЗ 219
END:VEVENT
BEGIN:VEVENT
UID:v5er@192.168.245.71:3006
SEQUENCE:0
DTSTAMP:20260422T042658Z
DTSTART:20260305T090000Z
DTEND:20260305T104000Z
SUMMARY:Теоретические основы электротехники
LOCATION:ГЗ 271
END:VEVENT
BEGIN:VEVENT
UID:hb9y@192.168.245.71:3006
SEQUENCE:0
DTSTAMP:20260422T042658Z
DTSTART:20260305T090000Z
DTEND:20260305T104000Z
SUMMARY:Теоретические основы электротехники
LOCATION:ГЗ 271
END:VEVENT
BEGIN:VEVENT
UID:xkou@192.168.245.71:3006
SEQUENCE:0
DTSTAMP:20260422T042658Z
DTSTART:20260306T110000Z
DTEND:20260306T124000Z
SUMMARY:Элективная физическая культура и спорт
LOCATION:СК Секции
END:VEVENT
END:VCALENDAR