BEGIN:VCALENDAR
VERSION:2.0
PRODID:-//spbstu.ru//ical//RU
NAME:Расписание группы 3231302/40005
X-WR-CALNAME:Расписание группы 3231302/40005
TIMEZONE-ID:Europe/Moscow
X-WR-TIMEZONE:Europe/Moscow
BEGIN:VEVENT
UID:aw5c@192.168.245.71:3006
SEQUENCE:0
DTSTAMP:20260421T070522Z
DTSTART:20260413T070000Z
DTEND:20260413T084000Z
SUMMARY:Высшая математика (продвинутый уровень)
LOCATION:ГЗ 224
END:VEVENT
BEGIN:VEVENT
UID:4pve@192.168.245.71:3006
SEQUENCE:0
DTSTAMP:20260421T070522Z
DTSTART:20260413T090000Z
DTEND:20260413T104000Z
SUMMARY:Высшая математика (продвинутый уровень)
LOCATION:ГЗ 255
END:VEVENT
BEGIN:VEVENT
UID:6ixf@192.168.245.71:3006
SEQUENCE:0
DTSTAMP:20260421T070522Z
DTSTART:20260413T110000Z
DTEND:20260413T124000Z
SUMMARY:Теоретические основы электротехники
LOCATION:ГЗ 254
END:VEVENT
BEGIN:VEVENT
UID:6nvp@192.168.245.71:3006
SEQUENCE:0
DTSTAMP:20260421T070522Z
DTSTART:20260414T070000Z
DTEND:20260414T084000Z
SUMMARY:Безопасность жизнедеятельности
LOCATION:ГК 104
END:VEVENT
BEGIN:VEVENT
UID:6mas@192.168.245.71:3006
SEQUENCE:0
DTSTAMP:20260421T070522Z
DTSTART:20260414T090000Z
DTEND:20260414T104000Z
SUMMARY:Промышленная электроника
LOCATION:ГЗ 225
END:VEVENT
BEGIN:VEVENT
UID:vn8d@192.168.245.71:3006
SEQUENCE:0
DTSTAMP:20260421T070522Z
DTSTART:20260414T110000Z
DTEND:20260414T124000Z
SUMMARY:Элективная физическая культура и спорт
LOCATION:СК Секции
END:VEVENT
BEGIN:VEVENT
UID:jaco@192.168.245.71:3006
SEQUENCE:0
DTSTAMP:20260421T070522Z
DTSTART:20260415T090000Z
DTEND:20260415T104000Z
SUMMARY:Теоретические основы электротехники
LOCATION:ГЗ 283
END:VEVENT
BEGIN:VEVENT
UID:122j@192.168.245.71:3006
SEQUENCE:0
DTSTAMP:20260421T070522Z
DTSTART:20260415T110000Z
DTEND:20260415T124000Z
SUMMARY:Теоретические основы электротехники
LOCATION:ГЗ 254
END:VEVENT
BEGIN:VEVENT
UID:vvd2@192.168.245.71:3006
SEQUENCE:0
DTSTAMP:20260421T070522Z
DTSTART:20260416T070000Z
DTEND:20260416T084000Z
SUMMARY:Иностранный язык. Профессионально-ориентированный курс
LOCATION:ГЗ 219
END:VEVENT
BEGIN:VEVENT
UID:37po@192.168.245.71:3006
SEQUENCE:0
DTSTAMP:20260421T070522Z
DTSTART:20260416T090000Z
DTEND:20260416T104000Z
SUMMARY:Теоретические основы электротехники
LOCATION:ГЗ 271
END:VEVENT
BEGIN:VEVENT
UID:n86t@192.168.245.71:3006
SEQUENCE:0
DTSTAMP:20260421T070522Z
DTSTART:20260416T090000Z
DTEND:20260416T104000Z
SUMMARY:Теоретические основы электротехники
LOCATION:ГЗ 271
END:VEVENT
BEGIN:VEVENT
UID:t98a@192.168.245.71:3006
SEQUENCE:0
DTSTAMP:20260421T070522Z
DTSTART:20260416T110000Z
DTEND:20260416T124000Z
SUMMARY:Факультатив по электротехнике
LOCATION:ГЗ 276
END:VEVENT
BEGIN:VEVENT
UID:251t@192.168.245.71:3006
SEQUENCE:0
DTSTAMP:20260421T070522Z
DTSTART:20260417T110000Z
DTEND:20260417T124000Z
SUMMARY:Элективная физическая культура и спорт
LOCATION:СК Секции
END:VEVENT
END:VCALENDAR