BEGIN:VCALENDAR
VERSION:2.0
PRODID:-//spbstu.ru//ical//RU
NAME:Расписание группы 3231302/40005
X-WR-CALNAME:Расписание группы 3231302/40005
TIMEZONE-ID:Europe/Moscow
X-WR-TIMEZONE:Europe/Moscow
BEGIN:VEVENT
UID:b7w1@192.168.245.71:3006
SEQUENCE:0
DTSTAMP:20260421T222914Z
DTSTART:20260525T070000Z
DTEND:20260525T110000Z
SUMMARY:Теоретические основы электротехники
LOCATION:ГЗ 253
END:VEVENT
BEGIN:VEVENT
UID:guc5@192.168.245.71:3006
SEQUENCE:0
DTSTAMP:20260421T222914Z
DTSTART:20260526T070000Z
DTEND:20260526T084000Z
SUMMARY:Основы проектной деятельности
LOCATION:Мех. к. 9
END:VEVENT
BEGIN:VEVENT
UID:3s4q@192.168.245.71:3006
SEQUENCE:0
DTSTAMP:20260421T222914Z
DTSTART:20260526T090000Z
DTEND:20260526T104000Z
SUMMARY:Элективная физическая культура и спорт
LOCATION:СК Секции
END:VEVENT
BEGIN:VEVENT
UID:9wfm@192.168.245.71:3006
SEQUENCE:0
DTSTAMP:20260421T222914Z
DTSTART:20260527T070000Z
DTEND:20260527T100000Z
SUMMARY:Иностранный язык. Профессионально-ориентированный курс
LOCATION:ГЗ 256
END:VEVENT
BEGIN:VEVENT
UID:jtbp@192.168.245.71:3006
SEQUENCE:0
DTSTAMP:20260421T222914Z
DTSTART:20260528T090000Z
DTEND:20260528T104000Z
SUMMARY:Безопасность жизнедеятельности
LOCATION:ГЗ 228
END:VEVENT
BEGIN:VEVENT
UID:j5au@192.168.245.71:3006
SEQUENCE:0
DTSTAMP:20260421T222914Z
DTSTART:20260529T070000Z
DTEND:20260529T100000Z
SUMMARY:Цифровая аналитика
LOCATION:ВИТ 302
END:VEVENT
END:VCALENDAR