BEGIN:VCALENDAR
VERSION:2.0
PRODID:-//spbstu.ru//ical//RU
NAME:Расписание группы 3231302/40005
X-WR-CALNAME:Расписание группы 3231302/40005
TIMEZONE-ID:Europe/Moscow
X-WR-TIMEZONE:Europe/Moscow
BEGIN:VEVENT
UID:ozrp@192.168.245.71:3006
SEQUENCE:0
DTSTAMP:20260421T084610Z
DTSTART:20260504T070000Z
DTEND:20260504T084000Z
SUMMARY:Высшая математика (продвинутый уровень)
LOCATION:ГЗ 224
END:VEVENT
BEGIN:VEVENT
UID:7je2@192.168.245.71:3006
SEQUENCE:0
DTSTAMP:20260421T084610Z
DTSTART:20260504T090000Z
DTEND:20260504T104000Z
SUMMARY:Иностранный язык. Профессионально-ориентированный курс
LOCATION:ГЗ 219
END:VEVENT
BEGIN:VEVENT
UID:hrbv@192.168.245.71:3006
SEQUENCE:0
DTSTAMP:20260421T084610Z
DTSTART:20260504T110000Z
DTEND:20260504T124000Z
SUMMARY:Теоретические основы электротехники
LOCATION:ГЗ 254
END:VEVENT
BEGIN:VEVENT
UID:5kik@192.168.245.71:3006
SEQUENCE:0
DTSTAMP:20260421T084610Z
DTSTART:20260505T070000Z
DTEND:20260505T084000Z
SUMMARY:Промышленная электроника
LOCATION:ВИТ 401
END:VEVENT
BEGIN:VEVENT
UID:4ru0@192.168.245.71:3006
SEQUENCE:0
DTSTAMP:20260421T084610Z
DTSTART:20260505T070000Z
DTEND:20260505T084000Z
SUMMARY:Промышленная электроника
LOCATION:ВИТ 401
END:VEVENT
BEGIN:VEVENT
UID:qrpk@192.168.245.71:3006
SEQUENCE:0
DTSTAMP:20260421T084610Z
DTSTART:20260505T090000Z
DTEND:20260505T104000Z
SUMMARY:Промышленная электроника
LOCATION:ГЗ 225
END:VEVENT
BEGIN:VEVENT
UID:oihz@192.168.245.71:3006
SEQUENCE:0
DTSTAMP:20260421T084610Z
DTSTART:20260505T110000Z
DTEND:20260505T124000Z
SUMMARY:Элективная физическая культура и спорт
LOCATION:СК Секции
END:VEVENT
BEGIN:VEVENT
UID:00qu@192.168.245.71:3006
SEQUENCE:0
DTSTAMP:20260421T084610Z
DTSTART:20260506T070000Z
DTEND:20260506T084000Z
SUMMARY:Цифровая аналитика
LOCATION:ВИТ 302
END:VEVENT
BEGIN:VEVENT
UID:i88h@192.168.245.71:3006
SEQUENCE:0
DTSTAMP:20260421T084610Z
DTSTART:20260506T090000Z
DTEND:20260506T104000Z
SUMMARY:Теоретические основы электротехники
LOCATION:ГЗ 283
END:VEVENT
BEGIN:VEVENT
UID:ho6o@192.168.245.71:3006
SEQUENCE:0
DTSTAMP:20260421T084610Z
DTSTART:20260506T110000Z
DTEND:20260506T124000Z
SUMMARY:Теоретические основы электротехники
LOCATION:ГЗ 254
END:VEVENT
BEGIN:VEVENT
UID:wk94@192.168.245.71:3006
SEQUENCE:0
DTSTAMP:20260421T084610Z
DTSTART:20260507T070000Z
DTEND:20260507T084000Z
SUMMARY:Иностранный язык. Профессионально-ориентированный курс
LOCATION:ГЗ 219
END:VEVENT
BEGIN:VEVENT
UID:99bw@192.168.245.71:3006
SEQUENCE:0
DTSTAMP:20260421T084610Z
DTSTART:20260507T090000Z
DTEND:20260507T104000Z
SUMMARY:Теоретические основы электротехники
LOCATION:ГЗ 271
END:VEVENT
BEGIN:VEVENT
UID:tte2@192.168.245.71:3006
SEQUENCE:0
DTSTAMP:20260421T084610Z
DTSTART:20260507T090000Z
DTEND:20260507T104000Z
SUMMARY:Теоретические основы электротехники
LOCATION:ГЗ 271
END:VEVENT
BEGIN:VEVENT
UID:cno9@192.168.245.71:3006
SEQUENCE:0
DTSTAMP:20260421T084610Z
DTSTART:20260507T110000Z
DTEND:20260507T124000Z
SUMMARY:Теоретические основы электротехники
LOCATION:ГЗ 256
END:VEVENT
BEGIN:VEVENT
UID:w1me@192.168.245.71:3006
SEQUENCE:0
DTSTAMP:20260421T084610Z
DTSTART:20260507T150000Z
DTEND:20260507T164000Z
SUMMARY:Факультатив по электротехнике
LOCATION:ГЗ 276
END:VEVENT
BEGIN:VEVENT
UID:kdx3@192.168.245.71:3006
SEQUENCE:0
DTSTAMP:20260421T084610Z
DTSTART:20260508T110000Z
DTEND:20260508T124000Z
SUMMARY:Элективная физическая культура и спорт
LOCATION:СК Секции
END:VEVENT
END:VCALENDAR