BEGIN:VCALENDAR
VERSION:2.0
PRODID:-//spbstu.ru//ical//RU
NAME:Расписание группы 3231303/40002
X-WR-CALNAME:Расписание группы 3231303/40002
TIMEZONE-ID:Europe/Moscow
X-WR-TIMEZONE:Europe/Moscow
BEGIN:VEVENT
UID:1bnp@192.168.245.71:3006
SEQUENCE:0
DTSTAMP:20260423T191600Z
DTSTART:20260622T070000Z
DTEND:20260622T130000Z
SUMMARY:Термодинамика
LOCATION:ГЗ 244
END:VEVENT
BEGIN:VEVENT
UID:pxvi@192.168.245.71:3006
SEQUENCE:0
DTSTAMP:20260423T191600Z
DTSTART:20260625T070000Z
DTEND:20260625T084000Z
SUMMARY:Детали машин и основы конструирования
LOCATION:ГЗ 282
END:VEVENT
BEGIN:VEVENT
UID:6rgq@192.168.245.71:3006
SEQUENCE:0
DTSTAMP:20260423T191600Z
DTSTART:20260626T070000Z
DTEND:20260626T130000Z
SUMMARY:Детали машин и основы конструирования
LOCATION:ГЗ 229
END:VEVENT
END:VCALENDAR