BEGIN:VCALENDAR
VERSION:2.0
PRODID:-//spbstu.ru//ical//RU
NAME:Расписание группы 3231303/40003
X-WR-CALNAME:Расписание группы 3231303/40003
TIMEZONE-ID:Europe/Moscow
X-WR-TIMEZONE:Europe/Moscow
BEGIN:VEVENT
UID:gsi4@192.168.245.71:3006
SEQUENCE:0
DTSTAMP:20260421T040830Z
DTSTART:20260310T070000Z
DTEND:20260310T084000Z
SUMMARY:Электротехника
LOCATION:17 уч.к. 310
END:VEVENT
BEGIN:VEVENT
UID:8xm1@192.168.245.71:3006
SEQUENCE:0
DTSTAMP:20260421T040830Z
DTSTART:20260310T070000Z
DTEND:20260310T084000Z
SUMMARY:Электротехника
LOCATION:17 уч.к. 314
END:VEVENT
BEGIN:VEVENT
UID:n4is@192.168.245.71:3006
SEQUENCE:0
DTSTAMP:20260421T040830Z
DTSTART:20260310T090000Z
DTEND:20260310T104000Z
SUMMARY:Термодинамика
LOCATION:ГЗ 224
END:VEVENT
BEGIN:VEVENT
UID:zugr@192.168.245.71:3006
SEQUENCE:0
DTSTAMP:20260421T040830Z
DTSTART:20260310T110000Z
DTEND:20260310T124000Z
SUMMARY:Элективная физическая культура и спорт
LOCATION:СК Секции
END:VEVENT
BEGIN:VEVENT
UID:3wiq@192.168.245.71:3006
SEQUENCE:0
DTSTAMP:20260421T040830Z
DTSTART:20260310T130000Z
DTEND:20260310T144000Z
SUMMARY:Электротехника
LOCATION:ГЗ 224
END:VEVENT
BEGIN:VEVENT
UID:bk64@192.168.245.71:3006
SEQUENCE:0
DTSTAMP:20260421T040830Z
DTSTART:20260311T070000Z
DTEND:20260311T084000Z
SUMMARY:Механика жидкости и газа
LOCATION:ГЗ 283
END:VEVENT
BEGIN:VEVENT
UID:lkss@192.168.245.71:3006
SEQUENCE:0
DTSTAMP:20260421T040830Z
DTSTART:20260311T090000Z
DTEND:20260311T104000Z
SUMMARY:Метрология
LOCATION:ГЗ 101
END:VEVENT
BEGIN:VEVENT
UID:khsa@192.168.245.71:3006
SEQUENCE:0
DTSTAMP:20260421T040830Z
DTSTART:20260311T110000Z
DTEND:20260311T124000Z
SUMMARY:Детали машин и основы конструирования
LOCATION:ГЗ 239
END:VEVENT
BEGIN:VEVENT
UID:iziq@192.168.245.71:3006
SEQUENCE:0
DTSTAMP:20260421T040830Z
DTSTART:20260311T130000Z
DTEND:20260311T144000Z
SUMMARY:Метрология
LOCATION:Мех. к. Лаб.ТМ
END:VEVENT
BEGIN:VEVENT
UID:fckq@192.168.245.71:3006
SEQUENCE:0
DTSTAMP:20260421T040830Z
DTSTART:20260311T130000Z
DTEND:20260311T144000Z
SUMMARY:Метрология
LOCATION:Мех. к. Лаб.ТМ
END:VEVENT
BEGIN:VEVENT
UID:1jws@192.168.245.71:3006
SEQUENCE:0
DTSTAMP:20260421T040830Z
DTSTART:20260311T150000Z
DTEND:20260311T164000Z
SUMMARY:Механика жидкости и газа
LOCATION:Мех. к. 26
END:VEVENT
BEGIN:VEVENT
UID:cqot@192.168.245.71:3006
SEQUENCE:0
DTSTAMP:20260421T040830Z
DTSTART:20260312T070000Z
DTEND:20260312T084000Z
SUMMARY:Иностранный язык. Профессионально-ориентированный курс
LOCATION:ГЗ 221
END:VEVENT
BEGIN:VEVENT
UID:1vzm@192.168.245.71:3006
SEQUENCE:0
DTSTAMP:20260421T040830Z
DTSTART:20260312T090000Z
DTEND:20260312T104000Z
SUMMARY:Термодинамика
LOCATION:Мех. к. 26
END:VEVENT
BEGIN:VEVENT
UID:p0ui@192.168.245.71:3006
SEQUENCE:0
DTSTAMP:20260421T040830Z
DTSTART:20260312T110000Z
DTEND:20260312T124000Z
SUMMARY:Сопротивление материалов
LOCATION:ГЗ 122
END:VEVENT
BEGIN:VEVENT
UID:9zqm@192.168.245.71:3006
SEQUENCE:0
DTSTAMP:20260421T040830Z
DTSTART:20260313T070000Z
DTEND:20260313T084000Z
SUMMARY:Теплообмен
LOCATION:ГЗ 283
END:VEVENT
BEGIN:VEVENT
UID:a0y7@192.168.245.71:3006
SEQUENCE:0
DTSTAMP:20260421T040830Z
DTSTART:20260313T090000Z
DTEND:20260313T104000Z
SUMMARY:Теплообмен
LOCATION:Хим. к. 9
END:VEVENT
BEGIN:VEVENT
UID:64s8@192.168.245.71:3006
SEQUENCE:0
DTSTAMP:20260421T040830Z
DTSTART:20260313T110000Z
DTEND:20260313T124000Z
SUMMARY:Элективная физическая культура и спорт
LOCATION:СК Секции
END:VEVENT
BEGIN:VEVENT
UID:v7tm@192.168.245.71:3006
SEQUENCE:0
DTSTAMP:20260421T040830Z
DTSTART:20260313T130000Z
DTEND:20260313T144000Z
SUMMARY:Безопасность жизнедеятельности
LOCATION:ГК 118
END:VEVENT
END:VCALENDAR