BEGIN:VCALENDAR
VERSION:2.0
PRODID:-//spbstu.ru//ical//RU
NAME:Расписание группы 3231303/40003
X-WR-CALNAME:Расписание группы 3231303/40003
TIMEZONE-ID:Europe/Moscow
X-WR-TIMEZONE:Europe/Moscow
BEGIN:VEVENT
UID:m2tc@192.168.245.71:3006
SEQUENCE:0
DTSTAMP:20260423T170932Z
DTSTART:20260623T070000Z
DTEND:20260623T130000Z
SUMMARY:Термодинамика
LOCATION:Мех. к. 14
END:VEVENT
BEGIN:VEVENT
UID:j6ge@192.168.245.71:3006
SEQUENCE:0
DTSTAMP:20260423T170932Z
DTSTART:20260625T070000Z
DTEND:20260625T084000Z
SUMMARY:Детали машин и основы конструирования
LOCATION:ГЗ 282
END:VEVENT
END:VCALENDAR