BEGIN:VCALENDAR
VERSION:2.0
PRODID:-//spbstu.ru//ical//RU
NAME:Расписание группы 3231303/40004
X-WR-CALNAME:Расписание группы 3231303/40004
TIMEZONE-ID:Europe/Moscow
X-WR-TIMEZONE:Europe/Moscow
BEGIN:VEVENT
UID:wrfv@192.168.245.71:3006
SEQUENCE:0
DTSTAMP:20260426T021202Z
DTSTART:20251027T070000Z
DTEND:20251027T084000Z
SUMMARY:Механика жидкости и газа
LOCATION:Мех. к. 26
END:VEVENT
BEGIN:VEVENT
UID:fb45@192.168.245.71:3006
SEQUENCE:0
DTSTAMP:20260426T021202Z
DTSTART:20251027T090000Z
DTEND:20251027T104000Z
SUMMARY:Теоретическая механика
LOCATION:ГЗ 257
END:VEVENT
BEGIN:VEVENT
UID:ilur@192.168.245.71:3006
SEQUENCE:0
DTSTAMP:20260426T021202Z
DTSTART:20251027T110000Z
DTEND:20251027T124000Z
SUMMARY:Термодинамика
LOCATION:Хим. к. лаб.8 Термодинамика
END:VEVENT
BEGIN:VEVENT
UID:pvqf@192.168.245.71:3006
SEQUENCE:0
DTSTAMP:20260426T021202Z
DTSTART:20251027T130000Z
DTEND:20251027T144000Z
SUMMARY:Высшая математика
LOCATION:ГЗ 227
END:VEVENT
BEGIN:VEVENT
UID:xh6r@192.168.245.71:3006
SEQUENCE:0
DTSTAMP:20260426T021202Z
DTSTART:20251028T090000Z
DTEND:20251028T104000Z
SUMMARY:Теория механизмов и машин
LOCATION:ГЗ 208
END:VEVENT
BEGIN:VEVENT
UID:k8zl@192.168.245.71:3006
SEQUENCE:0
DTSTAMP:20260426T021202Z
DTSTART:20251028T110000Z
DTEND:20251028T124000Z
SUMMARY:Элективная физическая культура и спорт
LOCATION:СК Секции
END:VEVENT
BEGIN:VEVENT
UID:jjo5@192.168.245.71:3006
SEQUENCE:0
DTSTAMP:20260426T021202Z
DTSTART:20251028T130000Z
DTEND:20251028T144000Z
SUMMARY:История России
LOCATION:ГЗ 244
END:VEVENT
BEGIN:VEVENT
UID:jnl7@192.168.245.71:3006
SEQUENCE:0
DTSTAMP:20260426T021202Z
DTSTART:20251029T070000Z
DTEND:20251029T084000Z
SUMMARY:Технология конструкционных материалов
LOCATION:ГЗ 224
END:VEVENT
BEGIN:VEVENT
UID:qwz2@192.168.245.71:3006
SEQUENCE:0
DTSTAMP:20260426T021202Z
DTSTART:20251029T090000Z
DTEND:20251029T104000Z
SUMMARY:Технология конструкционных материалов
LOCATION:ГЗ каф.ТКМ к.17
END:VEVENT
BEGIN:VEVENT
UID:yoi1@192.168.245.71:3006
SEQUENCE:0
DTSTAMP:20260426T021202Z
DTSTART:20251029T110000Z
DTEND:20251029T124000Z
SUMMARY:Прикладная механика
LOCATION:Мех. к. СМ №2
END:VEVENT
BEGIN:VEVENT
UID:h1qo@192.168.245.71:3006
SEQUENCE:0
DTSTAMP:20260426T021202Z
DTSTART:20251029T130000Z
DTEND:20251029T144000Z
SUMMARY:Модуль саморазвития (SoftSkills)
LOCATION:DL Дистанционно
END:VEVENT
BEGIN:VEVENT
UID:keoa@192.168.245.71:3006
SEQUENCE:0
DTSTAMP:20260426T021202Z
DTSTART:20251030T090000Z
DTEND:20251030T104000Z
SUMMARY:Высшая математика
LOCATION:ГЗ 122
END:VEVENT
BEGIN:VEVENT
UID:frv3@192.168.245.71:3006
SEQUENCE:0
DTSTAMP:20260426T021202Z
DTSTART:20251030T110000Z
DTEND:20251030T124000Z
SUMMARY:Термодинамика
LOCATION:Хим. к. лаб.8 Термодинамика
END:VEVENT
BEGIN:VEVENT
UID:l253@192.168.245.71:3006
SEQUENCE:0
DTSTAMP:20260426T021202Z
DTSTART:20251030T130000Z
DTEND:20251030T144000Z
SUMMARY:Механика жидкости и газа
LOCATION:ГЗ 283
END:VEVENT
BEGIN:VEVENT
UID:e4ah@192.168.245.71:3006
SEQUENCE:0
DTSTAMP:20260426T021202Z
DTSTART:20251031T070000Z
DTEND:20251031T084000Z
SUMMARY:Термодинамика
LOCATION:ГЗ 224
END:VEVENT
BEGIN:VEVENT
UID:rt9y@192.168.245.71:3006
SEQUENCE:0
DTSTAMP:20260426T021202Z
DTSTART:20251031T090000Z
DTEND:20251031T104000Z
SUMMARY:Иностранный язык: Базовый курс
LOCATION:ГЗ 221
END:VEVENT
BEGIN:VEVENT
UID:io6o@192.168.245.71:3006
SEQUENCE:0
DTSTAMP:20260426T021202Z
DTSTART:20251031T110000Z
DTEND:20251031T124000Z
SUMMARY:Элективная физическая культура и спорт
LOCATION:СК Секции
END:VEVENT
BEGIN:VEVENT
UID:frv3@192.168.245.71:3006
SEQUENCE:0
DTSTAMP:20260426T021202Z
DTSTART:20251101T060000Z
DTEND:20251101T083000Z
SUMMARY:Иностранный язык: Русский язык как иностранный
LOCATION:ГЗ 229
END:VEVENT
END:VCALENDAR