BEGIN:VCALENDAR
VERSION:2.0
PRODID:-//spbstu.ru//ical//RU
NAME:Расписание группы 3231303/40004
X-WR-CALNAME:Расписание группы 3231303/40004
TIMEZONE-ID:Europe/Moscow
X-WR-TIMEZONE:Europe/Moscow
BEGIN:VEVENT
UID:l5dj@192.168.245.71:3006
SEQUENCE:0
DTSTAMP:20260424T164840Z
DTSTART:20251208T070000Z
DTEND:20251208T084000Z
SUMMARY:Механика жидкости и газа
LOCATION:Мех. к. 26
END:VEVENT
BEGIN:VEVENT
UID:1byg@192.168.245.71:3006
SEQUENCE:0
DTSTAMP:20260424T164840Z
DTSTART:20251208T090000Z
DTEND:20251208T104000Z
SUMMARY:Теоретическая механика
LOCATION:ГЗ 257
END:VEVENT
BEGIN:VEVENT
UID:b7wl@192.168.245.71:3006
SEQUENCE:0
DTSTAMP:20260424T164840Z
DTSTART:20251208T110000Z
DTEND:20251208T124000Z
SUMMARY:Термодинамика
LOCATION:Хим. к. лаб.8 Термодинамика
END:VEVENT
BEGIN:VEVENT
UID:pigh@192.168.245.71:3006
SEQUENCE:0
DTSTAMP:20260424T164840Z
DTSTART:20251208T130000Z
DTEND:20251208T144000Z
SUMMARY:Высшая математика
LOCATION:ГЗ 227
END:VEVENT
BEGIN:VEVENT
UID:s5cl@192.168.245.71:3006
SEQUENCE:0
DTSTAMP:20260424T164840Z
DTSTART:20251209T090000Z
DTEND:20251209T104000Z
SUMMARY:Теория механизмов и машин
LOCATION:ГЗ 208
END:VEVENT
BEGIN:VEVENT
UID:otii@192.168.245.71:3006
SEQUENCE:0
DTSTAMP:20260424T164840Z
DTSTART:20251209T110000Z
DTEND:20251209T124000Z
SUMMARY:Элективная физическая культура и спорт
LOCATION:СК Секции
END:VEVENT
BEGIN:VEVENT
UID:bdpx@192.168.245.71:3006
SEQUENCE:0
DTSTAMP:20260424T164840Z
DTSTART:20251210T050000Z
DTEND:20251210T064000Z
SUMMARY:История России
LOCATION:ГЗ 257
END:VEVENT
BEGIN:VEVENT
UID:v4sv@192.168.245.71:3006
SEQUENCE:0
DTSTAMP:20260424T164840Z
DTSTART:20251210T070000Z
DTEND:20251210T084000Z
SUMMARY:Технология конструкционных материалов
LOCATION:ГЗ 224
END:VEVENT
BEGIN:VEVENT
UID:pim2@192.168.245.71:3006
SEQUENCE:0
DTSTAMP:20260424T164840Z
DTSTART:20251210T090000Z
DTEND:20251210T104000Z
SUMMARY:Технология конструкционных материалов
LOCATION:ГЗ каф.ТКМ к.17
END:VEVENT
BEGIN:VEVENT
UID:602i@192.168.245.71:3006
SEQUENCE:0
DTSTAMP:20260424T164840Z
DTSTART:20251210T130000Z
DTEND:20251210T144000Z
SUMMARY:Модуль саморазвития (SoftSkills)
LOCATION:DL Дистанционно
END:VEVENT
BEGIN:VEVENT
UID:mknk@192.168.245.71:3006
SEQUENCE:0
DTSTAMP:20260424T164840Z
DTSTART:20251211T090000Z
DTEND:20251211T104000Z
SUMMARY:Высшая математика
LOCATION:ГЗ 122
END:VEVENT
BEGIN:VEVENT
UID:17wm@192.168.245.71:3006
SEQUENCE:0
DTSTAMP:20260424T164840Z
DTSTART:20251211T130000Z
DTEND:20251211T144000Z
SUMMARY:Механика жидкости и газа
LOCATION:ГЗ 283
END:VEVENT
BEGIN:VEVENT
UID:5w9u@192.168.245.71:3006
SEQUENCE:0
DTSTAMP:20260424T164840Z
DTSTART:20251212T070000Z
DTEND:20251212T084000Z
SUMMARY:Термодинамика
LOCATION:ГЗ 224
END:VEVENT
BEGIN:VEVENT
UID:wkhd@192.168.245.71:3006
SEQUENCE:0
DTSTAMP:20260424T164840Z
DTSTART:20251212T090000Z
DTEND:20251212T104000Z
SUMMARY:Иностранный язык: Базовый курс
LOCATION:ГЗ 221
END:VEVENT
BEGIN:VEVENT
UID:8e1m@192.168.245.71:3006
SEQUENCE:0
DTSTAMP:20260424T164840Z
DTSTART:20251212T110000Z
DTEND:20251212T124000Z
SUMMARY:Элективная физическая культура и спорт
LOCATION:СК Секции
END:VEVENT
END:VCALENDAR