BEGIN:VCALENDAR
VERSION:2.0
PRODID:-//spbstu.ru//ical//RU
NAME:Расписание группы 3231303/40004
X-WR-CALNAME:Расписание группы 3231303/40004
TIMEZONE-ID:Europe/Moscow
X-WR-TIMEZONE:Europe/Moscow
BEGIN:VEVENT
UID:vegf@192.168.245.71:3006
SEQUENCE:0
DTSTAMP:20260420T210647Z
DTSTART:20260511T090000Z
DTEND:20260511T104000Z
SUMMARY:Высшая математика (продвинутый уровень)
LOCATION:ГЗ 224
END:VEVENT
BEGIN:VEVENT
UID:we4q@192.168.245.71:3006
SEQUENCE:0
DTSTAMP:20260420T210647Z
DTSTART:20260511T130000Z
DTEND:20260511T144000Z
SUMMARY:Цифровая аналитика
LOCATION:Мех. к. ВЦ
END:VEVENT
BEGIN:VEVENT
UID:xeuw@192.168.245.71:3006
SEQUENCE:0
DTSTAMP:20260420T210647Z
DTSTART:20260512T070000Z
DTEND:20260512T084000Z
SUMMARY:Механика жидкости и газа
LOCATION:Хим. к. лаб.№11 Механика жидкости и газа
END:VEVENT
BEGIN:VEVENT
UID:znqa@192.168.245.71:3006
SEQUENCE:0
DTSTAMP:20260420T210647Z
DTSTART:20260512T090000Z
DTEND:20260512T104000Z
SUMMARY:Термодинамика
LOCATION:ГЗ 224
END:VEVENT
BEGIN:VEVENT
UID:3xh3@192.168.245.71:3006
SEQUENCE:0
DTSTAMP:20260420T210647Z
DTSTART:20260512T110000Z
DTEND:20260512T124000Z
SUMMARY:Элективная физическая культура и спорт
LOCATION:СК Секции
END:VEVENT
BEGIN:VEVENT
UID:zcpk@192.168.245.71:3006
SEQUENCE:0
DTSTAMP:20260420T210647Z
DTSTART:20260513T070000Z
DTEND:20260513T084000Z
SUMMARY:Механика жидкости и газа
LOCATION:ГЗ 283
END:VEVENT
BEGIN:VEVENT
UID:kqep@192.168.245.71:3006
SEQUENCE:0
DTSTAMP:20260420T210647Z
DTSTART:20260513T090000Z
DTEND:20260513T104000Z
SUMMARY:Метрология
LOCATION:ГЗ 101
END:VEVENT
BEGIN:VEVENT
UID:78vy@192.168.245.71:3006
SEQUENCE:0
DTSTAMP:20260420T210647Z
DTSTART:20260513T110000Z
DTEND:20260513T124000Z
SUMMARY:Высшая математика (продвинутый уровень)
LOCATION:ГЗ 226
END:VEVENT
BEGIN:VEVENT
UID:ekor@192.168.245.71:3006
SEQUENCE:0
DTSTAMP:20260420T210647Z
DTSTART:20260513T130000Z
DTEND:20260513T144000Z
SUMMARY:Иностранный язык. Профессионально-ориентированный курс
LOCATION:ГЗ 221
END:VEVENT
BEGIN:VEVENT
UID:t6iz@192.168.245.71:3006
SEQUENCE:0
DTSTAMP:20260420T210647Z
DTSTART:20260514T110000Z
DTEND:20260514T124000Z
SUMMARY:Сопротивление материалов
LOCATION:ГЗ 122
END:VEVENT
BEGIN:VEVENT
UID:skgs@192.168.245.71:3006
SEQUENCE:0
DTSTAMP:20260420T210647Z
DTSTART:20260515T070000Z
DTEND:20260515T084000Z
SUMMARY:Детали машин и основы конструирования
LOCATION:ГЗ 283
END:VEVENT
BEGIN:VEVENT
UID:0ngh@192.168.245.71:3006
SEQUENCE:0
DTSTAMP:20260420T210647Z
DTSTART:20260515T090000Z
DTEND:20260515T104000Z
SUMMARY:Электротехника
LOCATION:ГЗ ЭиЭ
END:VEVENT
BEGIN:VEVENT
UID:wmnl@192.168.245.71:3006
SEQUENCE:0
DTSTAMP:20260420T210647Z
DTSTART:20260515T090000Z
DTEND:20260515T104000Z
SUMMARY:Электротехника
LOCATION:ГЗ ЭиЭ
END:VEVENT
BEGIN:VEVENT
UID:v2in@192.168.245.71:3006
SEQUENCE:0
DTSTAMP:20260420T210647Z
DTSTART:20260515T110000Z
DTEND:20260515T124000Z
SUMMARY:Элективная физическая культура и спорт
LOCATION:СК Секции
END:VEVENT
END:VCALENDAR