BEGIN:VCALENDAR
VERSION:2.0
PRODID:-//spbstu.ru//ical//RU
NAME:Расписание группы 3231303/40005
X-WR-CALNAME:Расписание группы 3231303/40005
TIMEZONE-ID:Europe/Moscow
X-WR-TIMEZONE:Europe/Moscow
BEGIN:VEVENT
UID:yzym@192.168.245.71:3006
SEQUENCE:0
DTSTAMP:20260423T164758Z
DTSTART:20251006T070000Z
DTEND:20251006T084000Z
SUMMARY:Теория механизмов и машин
LOCATION:ГЗ 224
END:VEVENT
BEGIN:VEVENT
UID:wd76@192.168.245.71:3006
SEQUENCE:0
DTSTAMP:20260423T164758Z
DTSTART:20251006T090000Z
DTEND:20251006T104000Z
SUMMARY:Теоретическая механика
LOCATION:ГЗ 257
END:VEVENT
BEGIN:VEVENT
UID:un9b@192.168.245.71:3006
SEQUENCE:0
DTSTAMP:20260423T164758Z
DTSTART:20251006T110000Z
DTEND:20251006T124000Z
SUMMARY:Термодинамика
LOCATION:Хим. к. лаб.8 Термодинамика
END:VEVENT
BEGIN:VEVENT
UID:jyql@192.168.245.71:3006
SEQUENCE:0
DTSTAMP:20260423T164758Z
DTSTART:20251007T070000Z
DTEND:20251007T084000Z
SUMMARY:История России
LOCATION:ГЗ 244
END:VEVENT
BEGIN:VEVENT
UID:3905@192.168.245.71:3006
SEQUENCE:0
DTSTAMP:20260423T164758Z
DTSTART:20251007T090000Z
DTEND:20251007T104000Z
SUMMARY:Прикладная механика
LOCATION:ГЗ 252
END:VEVENT
BEGIN:VEVENT
UID:octj@192.168.245.71:3006
SEQUENCE:0
DTSTAMP:20260423T164758Z
DTSTART:20251007T110000Z
DTEND:20251007T124000Z
SUMMARY:Элективная физическая культура и спорт
LOCATION:СК Секции
END:VEVENT
BEGIN:VEVENT
UID:im7q@192.168.245.71:3006
SEQUENCE:0
DTSTAMP:20260423T164758Z
DTSTART:20251007T130000Z
DTEND:20251007T144000Z
SUMMARY:Иностранный язык: Базовый курс
LOCATION:ГЗ 222
END:VEVENT
BEGIN:VEVENT
UID:t2xt@192.168.245.71:3006
SEQUENCE:0
DTSTAMP:20260423T164758Z
DTSTART:20251008T050000Z
DTEND:20251008T064000Z
SUMMARY:История России
LOCATION:ГЗ 215
END:VEVENT
BEGIN:VEVENT
UID:cvnv@192.168.245.71:3006
SEQUENCE:0
DTSTAMP:20260423T164758Z
DTSTART:20251008T070000Z
DTEND:20251008T084000Z
SUMMARY:Технология конструкционных материалов
LOCATION:ГЗ 224
END:VEVENT
BEGIN:VEVENT
UID:j1ym@192.168.245.71:3006
SEQUENCE:0
DTSTAMP:20260423T164758Z
DTSTART:20251008T090000Z
DTEND:20251008T104000Z
SUMMARY:Высшая математика
LOCATION:ГЗ 228
END:VEVENT
BEGIN:VEVENT
UID:nuw3@192.168.245.71:3006
SEQUENCE:0
DTSTAMP:20260423T164758Z
DTSTART:20251008T110000Z
DTEND:20251008T124000Z
SUMMARY:Теория механизмов и машин
LOCATION:ГЗ 211
END:VEVENT
BEGIN:VEVENT
UID:0wku@192.168.245.71:3006
SEQUENCE:0
DTSTAMP:20260423T164758Z
DTSTART:20251008T130000Z
DTEND:20251008T144000Z
SUMMARY:Модуль саморазвития (SoftSkills)
LOCATION:DL Дистанционно
END:VEVENT
BEGIN:VEVENT
UID:eocp@192.168.245.71:3006
SEQUENCE:0
DTSTAMP:20260423T164758Z
DTSTART:20251009T070000Z
DTEND:20251009T084000Z
SUMMARY:Термодинамика
LOCATION:Мех. к. 26
END:VEVENT
BEGIN:VEVENT
UID:cdo5@192.168.245.71:3006
SEQUENCE:0
DTSTAMP:20260423T164758Z
DTSTART:20251009T090000Z
DTEND:20251009T104000Z
SUMMARY:Прикладная механика
LOCATION:ГЗ 122
END:VEVENT
BEGIN:VEVENT
UID:ornr@192.168.245.71:3006
SEQUENCE:0
DTSTAMP:20260423T164758Z
DTSTART:20251009T110000Z
DTEND:20251009T124000Z
SUMMARY:Механика жидкости и газа
LOCATION:Мех. к. 26
END:VEVENT
BEGIN:VEVENT
UID:zfzw@192.168.245.71:3006
SEQUENCE:0
DTSTAMP:20260423T164758Z
DTSTART:20251009T130000Z
DTEND:20251009T144000Z
SUMMARY:Механика жидкости и газа
LOCATION:ГЗ 283
END:VEVENT
BEGIN:VEVENT
UID:0sma@192.168.245.71:3006
SEQUENCE:0
DTSTAMP:20260423T164758Z
DTSTART:20251010T070000Z
DTEND:20251010T084000Z
SUMMARY:Термодинамика
LOCATION:ГЗ 224
END:VEVENT
BEGIN:VEVENT
UID:qdib@192.168.245.71:3006
SEQUENCE:0
DTSTAMP:20260423T164758Z
DTSTART:20251010T090000Z
DTEND:20251010T104000Z
SUMMARY:Технология конструкционных материалов
LOCATION:ГЗ каф.ТКМ к.6
END:VEVENT
BEGIN:VEVENT
UID:gd6e@192.168.245.71:3006
SEQUENCE:0
DTSTAMP:20260423T164758Z
DTSTART:20251010T110000Z
DTEND:20251010T124000Z
SUMMARY:Элективная физическая культура и спорт
LOCATION:СК Секции
END:VEVENT
BEGIN:VEVENT
UID:7bhx@192.168.245.71:3006
SEQUENCE:0
DTSTAMP:20260423T164758Z
DTSTART:20251010T130000Z
DTEND:20251010T144000Z
SUMMARY:Теория механизмов и машин
LOCATION:Мех. к. каф.Т ММ
END:VEVENT
BEGIN:VEVENT
UID:6bso@192.168.245.71:3006
SEQUENCE:0
DTSTAMP:20260423T164758Z
DTSTART:20251011T060000Z
DTEND:20251011T083000Z
SUMMARY:Иностранный язык: Русский язык как иностранный
LOCATION:ГЗ 229
END:VEVENT
END:VCALENDAR