BEGIN:VCALENDAR
VERSION:2.0
PRODID:-//spbstu.ru//ical//RU
NAME:Расписание группы 3231303/40005
X-WR-CALNAME:Расписание группы 3231303/40005
TIMEZONE-ID:Europe/Moscow
X-WR-TIMEZONE:Europe/Moscow
BEGIN:VEVENT
UID:hutm@192.168.245.71:3006
SEQUENCE:0
DTSTAMP:20260423T150351Z
DTSTART:20250922T070000Z
DTEND:20250922T084000Z
SUMMARY:Теория механизмов и машин
LOCATION:ГЗ 224
END:VEVENT
BEGIN:VEVENT
UID:p3hh@192.168.245.71:3006
SEQUENCE:0
DTSTAMP:20260423T150351Z
DTSTART:20250922T090000Z
DTEND:20250922T104000Z
SUMMARY:Теоретическая механика
LOCATION:ГЗ 257
END:VEVENT
BEGIN:VEVENT
UID:rhp1@192.168.245.71:3006
SEQUENCE:0
DTSTAMP:20260423T150351Z
DTSTART:20250922T110000Z
DTEND:20250922T124000Z
SUMMARY:Термодинамика
LOCATION:Хим. к. лаб.8 Термодинамика
END:VEVENT
BEGIN:VEVENT
UID:7nwo@192.168.245.71:3006
SEQUENCE:0
DTSTAMP:20260423T150351Z
DTSTART:20250922T130000Z
DTEND:20250922T144000Z
SUMMARY:Теория механизмов и машин
LOCATION:ГЗ 226
END:VEVENT
BEGIN:VEVENT
UID:d2v3@192.168.245.71:3006
SEQUENCE:0
DTSTAMP:20260423T150351Z
DTSTART:20250923T070000Z
DTEND:20250923T084000Z
SUMMARY:История России
LOCATION:ГЗ 244
END:VEVENT
BEGIN:VEVENT
UID:usgw@192.168.245.71:3006
SEQUENCE:0
DTSTAMP:20260423T150351Z
DTSTART:20250923T090000Z
DTEND:20250923T104000Z
SUMMARY:Прикладная механика
LOCATION:ГЗ 252
END:VEVENT
BEGIN:VEVENT
UID:qhpe@192.168.245.71:3006
SEQUENCE:0
DTSTAMP:20260423T150351Z
DTSTART:20250923T110000Z
DTEND:20250923T124000Z
SUMMARY:Элективная физическая культура и спорт
LOCATION:СК Секции
END:VEVENT
BEGIN:VEVENT
UID:spo0@192.168.245.71:3006
SEQUENCE:0
DTSTAMP:20260423T150351Z
DTSTART:20250923T130000Z
DTEND:20250923T144000Z
SUMMARY:Иностранный язык: Базовый курс
LOCATION:ГЗ 222
END:VEVENT
BEGIN:VEVENT
UID:bt15@192.168.245.71:3006
SEQUENCE:0
DTSTAMP:20260423T150351Z
DTSTART:20250924T050000Z
DTEND:20250924T064000Z
SUMMARY:История России
LOCATION:ГЗ 215
END:VEVENT
BEGIN:VEVENT
UID:pd6s@192.168.245.71:3006
SEQUENCE:0
DTSTAMP:20260423T150351Z
DTSTART:20250924T070000Z
DTEND:20250924T084000Z
SUMMARY:Технология конструкционных материалов
LOCATION:ГЗ 224
END:VEVENT
BEGIN:VEVENT
UID:mam2@192.168.245.71:3006
SEQUENCE:0
DTSTAMP:20260423T150351Z
DTSTART:20250924T090000Z
DTEND:20250924T104000Z
SUMMARY:Высшая математика
LOCATION:ГЗ 228
END:VEVENT
BEGIN:VEVENT
UID:jhl5@192.168.245.71:3006
SEQUENCE:0
DTSTAMP:20260423T150351Z
DTSTART:20250924T110000Z
DTEND:20250924T124000Z
SUMMARY:Теория механизмов и машин
LOCATION:ГЗ 211
END:VEVENT
BEGIN:VEVENT
UID:08f3@192.168.245.71:3006
SEQUENCE:0
DTSTAMP:20260423T150351Z
DTSTART:20250924T130000Z
DTEND:20250924T144000Z
SUMMARY:Модуль саморазвития (SoftSkills)
LOCATION:DL Дистанционно
END:VEVENT
BEGIN:VEVENT
UID:nftc@192.168.245.71:3006
SEQUENCE:0
DTSTAMP:20260423T150351Z
DTSTART:20250925T070000Z
DTEND:20250925T084000Z
SUMMARY:Термодинамика
LOCATION:Мех. к. 26
END:VEVENT
BEGIN:VEVENT
UID:4x99@192.168.245.71:3006
SEQUENCE:0
DTSTAMP:20260423T150351Z
DTSTART:20250925T090000Z
DTEND:20250925T104000Z
SUMMARY:Прикладная механика
LOCATION:ГЗ 122
END:VEVENT
BEGIN:VEVENT
UID:a2jc@192.168.245.71:3006
SEQUENCE:0
DTSTAMP:20260423T150351Z
DTSTART:20250925T110000Z
DTEND:20250925T124000Z
SUMMARY:Механика жидкости и газа
LOCATION:Мех. к. 26
END:VEVENT
BEGIN:VEVENT
UID:fqcr@192.168.245.71:3006
SEQUENCE:0
DTSTAMP:20260423T150351Z
DTSTART:20250925T130000Z
DTEND:20250925T144000Z
SUMMARY:Механика жидкости и газа
LOCATION:ГЗ 283
END:VEVENT
BEGIN:VEVENT
UID:bbc4@192.168.245.71:3006
SEQUENCE:0
DTSTAMP:20260423T150351Z
DTSTART:20250926T070000Z
DTEND:20250926T084000Z
SUMMARY:Термодинамика
LOCATION:ГЗ 224
END:VEVENT
BEGIN:VEVENT
UID:c2w7@192.168.245.71:3006
SEQUENCE:0
DTSTAMP:20260423T150351Z
DTSTART:20250926T090000Z
DTEND:20250926T104000Z
SUMMARY:Технология конструкционных материалов
LOCATION:ГЗ каф.ТКМ к.6
END:VEVENT
BEGIN:VEVENT
UID:pb2d@192.168.245.71:3006
SEQUENCE:0
DTSTAMP:20260423T150351Z
DTSTART:20250926T110000Z
DTEND:20250926T124000Z
SUMMARY:Элективная физическая культура и спорт
LOCATION:СК Секции
END:VEVENT
BEGIN:VEVENT
UID:iaxt@192.168.245.71:3006
SEQUENCE:0
DTSTAMP:20260423T150351Z
DTSTART:20250926T130000Z
DTEND:20250926T144000Z
SUMMARY:Теория механизмов и машин
LOCATION:Мех. к. каф.Т ММ
END:VEVENT
BEGIN:VEVENT
UID:vvq6@192.168.245.71:3006
SEQUENCE:0
DTSTAMP:20260423T150351Z
DTSTART:20250927T060000Z
DTEND:20250927T083000Z
SUMMARY:Иностранный язык: Русский язык как иностранный
LOCATION:ГЗ 229
END:VEVENT
END:VCALENDAR