BEGIN:VCALENDAR
VERSION:2.0
PRODID:-//spbstu.ru//ical//RU
NAME:Расписание группы 3231303/40005
X-WR-CALNAME:Расписание группы 3231303/40005
TIMEZONE-ID:Europe/Moscow
X-WR-TIMEZONE:Europe/Moscow
BEGIN:VEVENT
UID:gi97@192.168.245.71:3006
SEQUENCE:0
DTSTAMP:20260421T120621Z
DTSTART:20260202T070000Z
DTEND:20260202T084000Z
SUMMARY:Электротехника
LOCATION:ГЗ 305
END:VEVENT
BEGIN:VEVENT
UID:sim6@192.168.245.71:3006
SEQUENCE:0
DTSTAMP:20260421T120621Z
DTSTART:20260202T090000Z
DTEND:20260202T104000Z
SUMMARY:Высшая математика (продвинутый уровень)
LOCATION:ГЗ 224
END:VEVENT
BEGIN:VEVENT
UID:pktj@192.168.245.71:3006
SEQUENCE:0
DTSTAMP:20260421T120621Z
DTSTART:20260202T110000Z
DTEND:20260202T124000Z
SUMMARY:Сопротивление материалов
LOCATION:ГЗ 107
END:VEVENT
BEGIN:VEVENT
UID:3gau@192.168.245.71:3006
SEQUENCE:0
DTSTAMP:20260421T120621Z
DTSTART:20260203T070000Z
DTEND:20260203T084000Z
SUMMARY:Электротехника
LOCATION:ГЗ ЭиЭ
END:VEVENT
BEGIN:VEVENT
UID:ltf1@192.168.245.71:3006
SEQUENCE:0
DTSTAMP:20260421T120621Z
DTSTART:20260203T070000Z
DTEND:20260203T084000Z
SUMMARY:Электротехника
LOCATION:ГЗ ЭиЭ
END:VEVENT
BEGIN:VEVENT
UID:sm5h@192.168.245.71:3006
SEQUENCE:0
DTSTAMP:20260421T120621Z
DTSTART:20260203T090000Z
DTEND:20260203T104000Z
SUMMARY:Термодинамика
LOCATION:ГЗ 224
END:VEVENT
BEGIN:VEVENT
UID:nss5@192.168.245.71:3006
SEQUENCE:0
DTSTAMP:20260421T120621Z
DTSTART:20260203T120000Z
DTEND:20260203T130000Z
SUMMARY:Основы проектной деятельности
LOCATION:DL Дистанционно
END:VEVENT
BEGIN:VEVENT
UID:9jhi@192.168.245.71:3006
SEQUENCE:0
DTSTAMP:20260421T120621Z
DTSTART:20260203T130000Z
DTEND:20260203T144000Z
SUMMARY:Электротехника
LOCATION:ГЗ 224
END:VEVENT
BEGIN:VEVENT
UID:2qa2@192.168.245.71:3006
SEQUENCE:0
DTSTAMP:20260421T120621Z
DTSTART:20260204T070000Z
DTEND:20260204T084000Z
SUMMARY:Механика жидкости и газа
LOCATION:ГЗ 283
END:VEVENT
BEGIN:VEVENT
UID:jsbk@192.168.245.71:3006
SEQUENCE:0
DTSTAMP:20260421T120621Z
DTSTART:20260204T090000Z
DTEND:20260204T104000Z
SUMMARY:Метрология
LOCATION:ГЗ 101
END:VEVENT
BEGIN:VEVENT
UID:986l@192.168.245.71:3006
SEQUENCE:0
DTSTAMP:20260421T120621Z
DTSTART:20260204T110000Z
DTEND:20260204T124000Z
SUMMARY:Иностранный язык. Профессионально-ориентированный курс
LOCATION:ГЗ 221
END:VEVENT
BEGIN:VEVENT
UID:k2ih@192.168.245.71:3006
SEQUENCE:0
DTSTAMP:20260421T120621Z
DTSTART:20260204T130000Z
DTEND:20260204T144000Z
SUMMARY:Метрология
LOCATION:Мех. к. Лаб.ТМ
END:VEVENT
BEGIN:VEVENT
UID:6gyb@192.168.245.71:3006
SEQUENCE:0
DTSTAMP:20260421T120621Z
DTSTART:20260204T130000Z
DTEND:20260204T144000Z
SUMMARY:Метрология
LOCATION:Мех. к. Лаб.ТМ
END:VEVENT
BEGIN:VEVENT
UID:f6et@192.168.245.71:3006
SEQUENCE:0
DTSTAMP:20260421T120621Z
DTSTART:20260205T070000Z
DTEND:20260205T084000Z
SUMMARY:Механика жидкости и газа
LOCATION:Хим. к. лаб.№11 Механика жидкости и газа
END:VEVENT
BEGIN:VEVENT
UID:ybaz@192.168.245.71:3006
SEQUENCE:0
DTSTAMP:20260421T120621Z
DTSTART:20260205T090000Z
DTEND:20260205T104000Z
SUMMARY:Теплообмен
LOCATION:Мех. к. 26
END:VEVENT
BEGIN:VEVENT
UID:4mb5@192.168.245.71:3006
SEQUENCE:0
DTSTAMP:20260421T120621Z
DTSTART:20260205T110000Z
DTEND:20260205T124000Z
SUMMARY:Сопротивление материалов
LOCATION:ГЗ 224
END:VEVENT
BEGIN:VEVENT
UID:w8mm@192.168.245.71:3006
SEQUENCE:0
DTSTAMP:20260421T120621Z
DTSTART:20260206T070000Z
DTEND:20260206T084000Z
SUMMARY:Детали машин и основы конструирования
LOCATION:ГЗ 283
END:VEVENT
BEGIN:VEVENT
UID:7h5l@192.168.245.71:3006
SEQUENCE:0
DTSTAMP:20260421T120621Z
DTSTART:20260206T090000Z
DTEND:20260206T104000Z
SUMMARY:Детали машин и основы конструирования
LOCATION:ГЗ 220
END:VEVENT
BEGIN:VEVENT
UID:1iv9@192.168.245.71:3006
SEQUENCE:0
DTSTAMP:20260421T120621Z
DTSTART:20260206T130000Z
DTEND:20260206T144000Z
SUMMARY:Цифровая аналитика
LOCATION:ГЗ 283
END:VEVENT
BEGIN:VEVENT
UID:ijt6@192.168.245.71:3006
SEQUENCE:0
DTSTAMP:20260421T120621Z
DTSTART:20260206T150000Z
DTEND:20260206T164000Z
SUMMARY:История России
LOCATION:ГЗ 221
END:VEVENT
END:VCALENDAR