BEGIN:VCALENDAR
VERSION:2.0
PRODID:-//spbstu.ru//ical//RU
NAME:Расписание группы 3231401/40001
X-WR-CALNAME:Расписание группы 3231401/40001
TIMEZONE-ID:Europe/Moscow
X-WR-TIMEZONE:Europe/Moscow
BEGIN:VEVENT
UID:9tlr@192.168.245.71:3006
SEQUENCE:0
DTSTAMP:20260425T225734Z
DTSTART:20251117T090000Z
DTEND:20251117T104000Z
SUMMARY:Тепломассообмен
LOCATION:ГЗ 283
END:VEVENT
BEGIN:VEVENT
UID:r8oj@192.168.245.71:3006
SEQUENCE:0
DTSTAMP:20260425T225734Z
DTSTART:20251117T110000Z
DTEND:20251117T124000Z
SUMMARY:Компьютерные технологии
LOCATION:ГЗ 122
END:VEVENT
BEGIN:VEVENT
UID:89qo@192.168.245.71:3006
SEQUENCE:0
DTSTAMP:20260425T225734Z
DTSTART:20251118T070000Z
DTEND:20251118T084000Z
SUMMARY:Иностранный язык: Базовый курс
LOCATION:ГЗ 219
END:VEVENT
BEGIN:VEVENT
UID:6l22@192.168.245.71:3006
SEQUENCE:0
DTSTAMP:20260425T225734Z
DTSTART:20251118T090000Z
DTEND:20251118T104000Z
SUMMARY:Термодинамика
LOCATION:ГЗ 283
END:VEVENT
BEGIN:VEVENT
UID:bpyt@192.168.245.71:3006
SEQUENCE:0
DTSTAMP:20260425T225734Z
DTSTART:20251118T110000Z
DTEND:20251118T124000Z
SUMMARY:Элективная физическая культура и спорт
LOCATION:СК Секции
END:VEVENT
BEGIN:VEVENT
UID:bcyd@192.168.245.71:3006
SEQUENCE:0
DTSTAMP:20260425T225734Z
DTSTART:20251119T050000Z
DTEND:20251119T064000Z
SUMMARY:История России
LOCATION:ГЗ 215
END:VEVENT
BEGIN:VEVENT
UID:w0g2@192.168.245.71:3006
SEQUENCE:0
DTSTAMP:20260425T225734Z
DTSTART:20251119T070000Z
DTEND:20251119T084000Z
SUMMARY:Компьютерные технологии
LOCATION:ТВН ВШАиТЭ комп.кл.
END:VEVENT
BEGIN:VEVENT
UID:trj6@192.168.245.71:3006
SEQUENCE:0
DTSTAMP:20260425T225734Z
DTSTART:20251119T090000Z
DTEND:20251119T104000Z
SUMMARY:Высшая математика
LOCATION:ГЗ 225
END:VEVENT
BEGIN:VEVENT
UID:bgmf@192.168.245.71:3006
SEQUENCE:0
DTSTAMP:20260425T225734Z
DTSTART:20251119T110000Z
DTEND:20251119T124000Z
SUMMARY:Термодинамика
LOCATION:Мех. к. 26
END:VEVENT
BEGIN:VEVENT
UID:w1q9@192.168.245.71:3006
SEQUENCE:0
DTSTAMP:20260425T225734Z
DTSTART:20251119T130000Z
DTEND:20251119T144000Z
SUMMARY:Модуль саморазвития (SoftSkills)
LOCATION:DL Дистанционно
END:VEVENT
BEGIN:VEVENT
UID:y8oz@192.168.245.71:3006
SEQUENCE:0
DTSTAMP:20260425T225734Z
DTSTART:20251120T070000Z
DTEND:20251120T084000Z
SUMMARY:Высшая математика (продвинутый уровень)
LOCATION:ГЗ 224
END:VEVENT
BEGIN:VEVENT
UID:gcow@192.168.245.71:3006
SEQUENCE:0
DTSTAMP:20260425T225734Z
DTSTART:20251120T090000Z
DTEND:20251120T104000Z
SUMMARY:Основы квантовой механики
LOCATION:ГЗ 256
END:VEVENT
BEGIN:VEVENT
UID:akk3@192.168.245.71:3006
SEQUENCE:0
DTSTAMP:20260425T225734Z
DTSTART:20251120T110000Z
DTEND:20251120T124000Z
SUMMARY:Основы квантовой механики
LOCATION:ГЗ 305
END:VEVENT
BEGIN:VEVENT
UID:t9hj@192.168.245.71:3006
SEQUENCE:0
DTSTAMP:20260425T225734Z
DTSTART:20251120T130000Z
DTEND:20251120T144000Z
SUMMARY:Тепломассообмен
LOCATION:Мех. к. 26
END:VEVENT
BEGIN:VEVENT
UID:l3mx@192.168.245.71:3006
SEQUENCE:0
DTSTAMP:20260425T225734Z
DTSTART:20251121T070000Z
DTEND:20251121T084000Z
SUMMARY:Тепломассообмен
LOCATION:Хим. к. Лаб.№10 Тепло- и массообмен
END:VEVENT
BEGIN:VEVENT
UID:oqqd@192.168.245.71:3006
SEQUENCE:0
DTSTAMP:20260425T225734Z
DTSTART:20251121T090000Z
DTEND:20251121T104000Z
SUMMARY:Механика жидкости и газа
LOCATION:ГЗ 224
END:VEVENT
BEGIN:VEVENT
UID:y3ti@192.168.245.71:3006
SEQUENCE:0
DTSTAMP:20260425T225734Z
DTSTART:20251121T110000Z
DTEND:20251121T124000Z
SUMMARY:Элективная физическая культура и спорт
LOCATION:СК Секции
END:VEVENT
BEGIN:VEVENT
UID:t1ux@192.168.245.71:3006
SEQUENCE:0
DTSTAMP:20260425T225734Z
DTSTART:20251122T060000Z
DTEND:20251122T083000Z
SUMMARY:Иностранный язык: Русский язык как иностранный
LOCATION:ГЗ 229
END:VEVENT
END:VCALENDAR