BEGIN:VCALENDAR
VERSION:2.0
PRODID:-//spbstu.ru//ical//RU
NAME:Расписание группы 3231401/40001
X-WR-CALNAME:Расписание группы 3231401/40001
TIMEZONE-ID:Europe/Moscow
X-WR-TIMEZONE:Europe/Moscow
BEGIN:VEVENT
UID:6rv1@192.168.245.71:3006
SEQUENCE:0
DTSTAMP:20260424T164843Z
DTSTART:20251208T090000Z
DTEND:20251208T104000Z
SUMMARY:Тепломассообмен
LOCATION:ГЗ 283
END:VEVENT
BEGIN:VEVENT
UID:c6hz@192.168.245.71:3006
SEQUENCE:0
DTSTAMP:20260424T164843Z
DTSTART:20251208T110000Z
DTEND:20251208T124000Z
SUMMARY:Компьютерные технологии
LOCATION:ГЗ 122
END:VEVENT
BEGIN:VEVENT
UID:oxl0@192.168.245.71:3006
SEQUENCE:0
DTSTAMP:20260424T164843Z
DTSTART:20251209T070000Z
DTEND:20251209T084000Z
SUMMARY:Иностранный язык: Базовый курс
LOCATION:ГЗ 219
END:VEVENT
BEGIN:VEVENT
UID:cncl@192.168.245.71:3006
SEQUENCE:0
DTSTAMP:20260424T164843Z
DTSTART:20251209T090000Z
DTEND:20251209T104000Z
SUMMARY:Термодинамика
LOCATION:ГЗ 283
END:VEVENT
BEGIN:VEVENT
UID:e2x4@192.168.245.71:3006
SEQUENCE:0
DTSTAMP:20260424T164843Z
DTSTART:20251209T110000Z
DTEND:20251209T124000Z
SUMMARY:Элективная физическая культура и спорт
LOCATION:СК Секции
END:VEVENT
BEGIN:VEVENT
UID:6ty4@192.168.245.71:3006
SEQUENCE:0
DTSTAMP:20260424T164843Z
DTSTART:20251210T050000Z
DTEND:20251210T064000Z
SUMMARY:История России
LOCATION:ГЗ 257
END:VEVENT
BEGIN:VEVENT
UID:uac4@192.168.245.71:3006
SEQUENCE:0
DTSTAMP:20260424T164843Z
DTSTART:20251210T070000Z
DTEND:20251210T084000Z
SUMMARY:Компьютерные технологии
LOCATION:ТВН ВШАиТЭ комп.кл.
END:VEVENT
BEGIN:VEVENT
UID:a95k@192.168.245.71:3006
SEQUENCE:0
DTSTAMP:20260424T164843Z
DTSTART:20251210T090000Z
DTEND:20251210T104000Z
SUMMARY:Высшая математика
LOCATION:ГЗ 225
END:VEVENT
BEGIN:VEVENT
UID:1f3x@192.168.245.71:3006
SEQUENCE:0
DTSTAMP:20260424T164843Z
DTSTART:20251210T130000Z
DTEND:20251210T144000Z
SUMMARY:Модуль саморазвития (SoftSkills)
LOCATION:DL Дистанционно
END:VEVENT
BEGIN:VEVENT
UID:k63w@192.168.245.71:3006
SEQUENCE:0
DTSTAMP:20260424T164843Z
DTSTART:20251211T070000Z
DTEND:20251211T084000Z
SUMMARY:Высшая математика
LOCATION:ГЗ 224
END:VEVENT
BEGIN:VEVENT
UID:l3yb@192.168.245.71:3006
SEQUENCE:0
DTSTAMP:20260424T164843Z
DTSTART:20251211T110000Z
DTEND:20251211T124000Z
SUMMARY:Основы квантовой механики
LOCATION:ГЗ 305
END:VEVENT
BEGIN:VEVENT
UID:2t5f@192.168.245.71:3006
SEQUENCE:0
DTSTAMP:20260424T164843Z
DTSTART:20251212T090000Z
DTEND:20251212T104000Z
SUMMARY:Механика жидкости и газа
LOCATION:ГЗ 224
END:VEVENT
BEGIN:VEVENT
UID:2h0v@192.168.245.71:3006
SEQUENCE:0
DTSTAMP:20260424T164843Z
DTSTART:20251212T110000Z
DTEND:20251212T124000Z
SUMMARY:Элективная физическая культура и спорт
LOCATION:СК Секции
END:VEVENT
END:VCALENDAR