BEGIN:VCALENDAR
VERSION:2.0
PRODID:-//spbstu.ru//ical//RU
NAME:Расписание группы 3231401/40001
X-WR-CALNAME:Расписание группы 3231401/40001
TIMEZONE-ID:Europe/Moscow
X-WR-TIMEZONE:Europe/Moscow
BEGIN:VEVENT
UID:yl6w@192.168.245.71:3006
SEQUENCE:0
DTSTAMP:20260424T080956Z
DTSTART:20260112T070000Z
DTEND:20260112T130000Z
SUMMARY:Высшая математика
LOCATION:ГЗ 224
END:VEVENT
BEGIN:VEVENT
UID:n4p4@192.168.245.71:3006
SEQUENCE:0
DTSTAMP:20260424T080956Z
DTSTART:20260114T070000Z
DTEND:20260114T084000Z
SUMMARY:Тепломассообмен
LOCATION:ГЗ 227
END:VEVENT
BEGIN:VEVENT
UID:pc76@192.168.245.71:3006
SEQUENCE:0
DTSTAMP:20260424T080956Z
DTSTART:20260116T070000Z
DTEND:20260116T130000Z
SUMMARY:Тепломассообмен
LOCATION:ГЗ 227
END:VEVENT
BEGIN:VEVENT
UID:hj4w@192.168.245.71:3006
SEQUENCE:0
DTSTAMP:20260424T080956Z
DTSTART:20260117T090000Z
DTEND:20260117T104000Z
SUMMARY:Термодинамика
LOCATION:ГЗ 227
END:VEVENT
END:VCALENDAR