BEGIN:VCALENDAR
VERSION:2.0
PRODID:-//spbstu.ru//ical//RU
NAME:Расписание группы 3231401/40001
X-WR-CALNAME:Расписание группы 3231401/40001
TIMEZONE-ID:Europe/Moscow
X-WR-TIMEZONE:Europe/Moscow
BEGIN:VEVENT
UID:n040@192.168.245.71:3006
SEQUENCE:0
DTSTAMP:20260422T190517Z
DTSTART:20260316T070000Z
DTEND:20260316T084000Z
SUMMARY:Электротехника
LOCATION:ГЗ 122
END:VEVENT
BEGIN:VEVENT
UID:xv8s@192.168.245.71:3006
SEQUENCE:0
DTSTAMP:20260422T190517Z
DTSTART:20260316T090000Z
DTEND:20260316T104000Z
SUMMARY:Иностранный язык. Профессионально-ориентированный курс
LOCATION:ГЗ 210
END:VEVENT
BEGIN:VEVENT
UID:s80b@192.168.245.71:3006
SEQUENCE:0
DTSTAMP:20260422T190517Z
DTSTART:20260316T110000Z
DTEND:20260316T124000Z
SUMMARY:Ядерная физика
LOCATION:2 к. 103
END:VEVENT
BEGIN:VEVENT
UID:e8es@192.168.245.71:3006
SEQUENCE:0
DTSTAMP:20260422T190517Z
DTSTART:20260316T130000Z
DTEND:20260316T144000Z
SUMMARY:Тепломассообмен
LOCATION:ГЗ 230
END:VEVENT
BEGIN:VEVENT
UID:tn60@192.168.245.71:3006
SEQUENCE:0
DTSTAMP:20260422T190517Z
DTSTART:20260316T150000Z
DTEND:20260316T164000Z
SUMMARY:Термодинамика
LOCATION:Хим. к. 9
END:VEVENT
BEGIN:VEVENT
UID:k6jv@192.168.245.71:3006
SEQUENCE:0
DTSTAMP:20260422T190517Z
DTSTART:20260317T070000Z
DTEND:20260317T084000Z
SUMMARY:Безопасность жизнедеятельности
LOCATION:ГК 106
END:VEVENT
BEGIN:VEVENT
UID:7ufu@192.168.245.71:3006
SEQUENCE:0
DTSTAMP:20260422T190517Z
DTSTART:20260317T090000Z
DTEND:20260317T104000Z
SUMMARY:Материаловедение
LOCATION:ГЗ 283
END:VEVENT
BEGIN:VEVENT
UID:bgvv@192.168.245.71:3006
SEQUENCE:0
DTSTAMP:20260422T190517Z
DTSTART:20260317T110000Z
DTEND:20260317T124000Z
SUMMARY:Элективная физическая культура и спорт
LOCATION:СК Секции
END:VEVENT
BEGIN:VEVENT
UID:cfc4@192.168.245.71:3006
SEQUENCE:0
DTSTAMP:20260422T190517Z
DTSTART:20260317T130000Z
DTEND:20260317T144000Z
SUMMARY:Электротехника
LOCATION:ГЗ 122
END:VEVENT
BEGIN:VEVENT
UID:31cu@192.168.245.71:3006
SEQUENCE:0
DTSTAMP:20260422T190517Z
DTSTART:20260318T070000Z
DTEND:20260318T084000Z
SUMMARY:Тепломассообмен
LOCATION:Хим. к. Лаб.№10 Тепло- и массообмен
END:VEVENT
BEGIN:VEVENT
UID:pogn@192.168.245.71:3006
SEQUENCE:0
DTSTAMP:20260422T190517Z
DTSTART:20260318T090000Z
DTEND:20260318T104000Z
SUMMARY:Прикладная механика
LOCATION:ГЗ 159
END:VEVENT
BEGIN:VEVENT
UID:hbcx@192.168.245.71:3006
SEQUENCE:0
DTSTAMP:20260422T190517Z
DTSTART:20260318T110000Z
DTEND:20260318T124000Z
SUMMARY:Тепломассообмен
LOCATION:ГЗ 283
END:VEVENT
BEGIN:VEVENT
UID:076g@192.168.245.71:3006
SEQUENCE:0
DTSTAMP:20260422T190517Z
DTSTART:20260318T130000Z
DTEND:20260318T144000Z
SUMMARY:Высшая математика (продвинутый уровень)
LOCATION:ГЗ 225
END:VEVENT
BEGIN:VEVENT
UID:chxp@192.168.245.71:3006
SEQUENCE:0
DTSTAMP:20260422T190517Z
DTSTART:20260319T070000Z
DTEND:20260319T084000Z
SUMMARY:Высшая математика (продвинутый уровень)
LOCATION:ГЗ 224
END:VEVENT
BEGIN:VEVENT
UID:sv70@192.168.245.71:3006
SEQUENCE:0
DTSTAMP:20260422T190517Z
DTSTART:20260319T090000Z
DTEND:20260319T104000Z
SUMMARY:Прикладная механика
LOCATION:ГЗ 283
END:VEVENT
BEGIN:VEVENT
UID:0et5@192.168.245.71:3006
SEQUENCE:0
DTSTAMP:20260422T190517Z
DTSTART:20260319T110000Z
DTEND:20260319T124000Z
SUMMARY:Прикладная механика
LOCATION:ГЗ 106
END:VEVENT
BEGIN:VEVENT
UID:s7ts@192.168.245.71:3006
SEQUENCE:0
DTSTAMP:20260422T190517Z
DTSTART:20260319T130000Z
DTEND:20260319T144000Z
SUMMARY:Высшая математика
LOCATION:ГЗ 153
END:VEVENT
BEGIN:VEVENT
UID:mkdi@192.168.245.71:3006
SEQUENCE:0
DTSTAMP:20260422T190517Z
DTSTART:20260320T070000Z
DTEND:20260320T084000Z
SUMMARY:Электротехника
LOCATION:17 уч.к. 314
END:VEVENT
BEGIN:VEVENT
UID:avx0@192.168.245.71:3006
SEQUENCE:0
DTSTAMP:20260422T190517Z
DTSTART:20260320T070000Z
DTEND:20260320T084000Z
SUMMARY:Электротехника
LOCATION:17 уч.к. 310
END:VEVENT
BEGIN:VEVENT
UID:wm14@192.168.245.71:3006
SEQUENCE:0
DTSTAMP:20260422T190517Z
DTSTART:20260320T090000Z
DTEND:20260320T104000Z
SUMMARY:Ядерная физика
LOCATION:ГЗ 283
END:VEVENT
BEGIN:VEVENT
UID:ar8a@192.168.245.71:3006
SEQUENCE:0
DTSTAMP:20260422T190517Z
DTSTART:20260320T110000Z
DTEND:20260320T124000Z
SUMMARY:Элективная физическая культура и спорт
LOCATION:СК Секции
END:VEVENT
END:VCALENDAR