BEGIN:VCALENDAR
VERSION:2.0
PRODID:-//spbstu.ru//ical//RU
NAME:Расписание группы 3231401/40001
X-WR-CALNAME:Расписание группы 3231401/40001
TIMEZONE-ID:Europe/Moscow
X-WR-TIMEZONE:Europe/Moscow
BEGIN:VEVENT
UID:h451@192.168.245.71:3006
SEQUENCE:0
DTSTAMP:20260423T041354Z
DTSTART:20260310T070000Z
DTEND:20260310T084000Z
SUMMARY:Иностранный язык. Профессионально-ориентированный курс
LOCATION:ГЗ 210
END:VEVENT
BEGIN:VEVENT
UID:7kbo@192.168.245.71:3006
SEQUENCE:0
DTSTAMP:20260423T041354Z
DTSTART:20260310T090000Z
DTEND:20260310T104000Z
SUMMARY:Материаловедение
LOCATION:ГЗ 283
END:VEVENT
BEGIN:VEVENT
UID:jbyi@192.168.245.71:3006
SEQUENCE:0
DTSTAMP:20260423T041354Z
DTSTART:20260310T110000Z
DTEND:20260310T124000Z
SUMMARY:Элективная физическая культура и спорт
LOCATION:СК Секции
END:VEVENT
BEGIN:VEVENT
UID:pfj2@192.168.245.71:3006
SEQUENCE:0
DTSTAMP:20260423T041354Z
DTSTART:20260310T130000Z
DTEND:20260310T144000Z
SUMMARY:Высшая математика (продвинутый уровень)
LOCATION:ГЗ 122
END:VEVENT
BEGIN:VEVENT
UID:ku4t@192.168.245.71:3006
SEQUENCE:0
DTSTAMP:20260423T041354Z
DTSTART:20260311T070000Z
DTEND:20260311T084000Z
SUMMARY:Тепломассообмен
LOCATION:Хим. к. Лаб.№10 Тепло- и массообмен
END:VEVENT
BEGIN:VEVENT
UID:jk6c@192.168.245.71:3006
SEQUENCE:0
DTSTAMP:20260423T041354Z
DTSTART:20260311T090000Z
DTEND:20260311T104000Z
SUMMARY:Прикладная механика
LOCATION:Мех. к. СМ №2
END:VEVENT
BEGIN:VEVENT
UID:irdv@192.168.245.71:3006
SEQUENCE:0
DTSTAMP:20260423T041354Z
DTSTART:20260311T110000Z
DTEND:20260311T124000Z
SUMMARY:Тепломассообмен
LOCATION:ГЗ 283
END:VEVENT
BEGIN:VEVENT
UID:jknf@192.168.245.71:3006
SEQUENCE:0
DTSTAMP:20260423T041354Z
DTSTART:20260311T130000Z
DTEND:20260311T144000Z
SUMMARY:Высшая математика (продвинутый уровень)
LOCATION:ГЗ 225
END:VEVENT
BEGIN:VEVENT
UID:732w@192.168.245.71:3006
SEQUENCE:0
DTSTAMP:20260423T041354Z
DTSTART:20260312T070000Z
DTEND:20260312T084000Z
SUMMARY:Высшая математика (продвинутый уровень)
LOCATION:ГЗ 224
END:VEVENT
BEGIN:VEVENT
UID:f6ge@192.168.245.71:3006
SEQUENCE:0
DTSTAMP:20260423T041354Z
DTSTART:20260312T090000Z
DTEND:20260312T104000Z
SUMMARY:Прикладная механика
LOCATION:ГЗ 283
END:VEVENT
BEGIN:VEVENT
UID:slje@192.168.245.71:3006
SEQUENCE:0
DTSTAMP:20260423T041354Z
DTSTART:20260312T110000Z
DTEND:20260312T124000Z
SUMMARY:Высшая математика (продвинутый уровень)
LOCATION:ГЗ 280
END:VEVENT
BEGIN:VEVENT
UID:ys4f@192.168.245.71:3006
SEQUENCE:0
DTSTAMP:20260423T041354Z
DTSTART:20260313T070000Z
DTEND:20260313T084000Z
SUMMARY:Электротехника
LOCATION:17 уч.к. 314
END:VEVENT
BEGIN:VEVENT
UID:ieq9@192.168.245.71:3006
SEQUENCE:0
DTSTAMP:20260423T041354Z
DTSTART:20260313T070000Z
DTEND:20260313T084000Z
SUMMARY:Электротехника
LOCATION:17 уч.к. 310
END:VEVENT
BEGIN:VEVENT
UID:7ps8@192.168.245.71:3006
SEQUENCE:0
DTSTAMP:20260423T041354Z
DTSTART:20260313T090000Z
DTEND:20260313T104000Z
SUMMARY:Ядерная физика
LOCATION:ГЗ 283
END:VEVENT
BEGIN:VEVENT
UID:i34y@192.168.245.71:3006
SEQUENCE:0
DTSTAMP:20260423T041354Z
DTSTART:20260313T110000Z
DTEND:20260313T124000Z
SUMMARY:Элективная физическая культура и спорт
LOCATION:СК Секции
END:VEVENT
BEGIN:VEVENT
UID:m3n6@192.168.245.71:3006
SEQUENCE:0
DTSTAMP:20260423T041354Z
DTSTART:20260313T150000Z
DTEND:20260313T164000Z
SUMMARY:Основы проектной деятельности
LOCATION:ТВН ВШАиТЭ уч.ауд.№102
END:VEVENT
END:VCALENDAR