BEGIN:VCALENDAR
VERSION:2.0
PRODID:-//spbstu.ru//ical//RU
NAME:Расписание группы 3241301/40501
X-WR-CALNAME:Расписание группы 3241301/40501
TIMEZONE-ID:Europe/Moscow
X-WR-TIMEZONE:Europe/Moscow
BEGIN:VEVENT
UID:rwd4@192.168.245.71:3006
SEQUENCE:0
DTSTAMP:20260425T134837Z
DTSTART:20251215T090000Z
DTEND:20251215T104000Z
SUMMARY:Численные методы в теплофизике и теплоэнергетике
LOCATION:Хим. к. 9
END:VEVENT
BEGIN:VEVENT
UID:6237@192.168.245.71:3006
SEQUENCE:0
DTSTAMP:20260425T134837Z
DTSTART:20251215T110000Z
DTEND:20251215T124000Z
SUMMARY:Энергетический и теплофизический инжиниринг
LOCATION:Хим. к. 9
END:VEVENT
BEGIN:VEVENT
UID:32uk@192.168.245.71:3006
SEQUENCE:0
DTSTAMP:20260425T134837Z
DTSTART:20251216T090000Z
DTEND:20251216T104000Z
SUMMARY:Численные методы в теплофизике и теплоэнергетике
LOCATION:Мех. к. Комп. кл. №7
END:VEVENT
BEGIN:VEVENT
UID:urkw@192.168.245.71:3006
SEQUENCE:0
DTSTAMP:20260425T134837Z
DTSTART:20251216T110000Z
DTEND:20251216T124000Z
SUMMARY:Приборы и методы измерений в энергоэкологическом аудите
LOCATION:Мех. к. Комп. кл. №7
END:VEVENT
BEGIN:VEVENT
UID:e1o2@192.168.245.71:3006
SEQUENCE:0
DTSTAMP:20260425T134837Z
DTSTART:20251216T130000Z
DTEND:20251216T144000Z
SUMMARY:Основы теплотехнического инжиниринга
LOCATION:Хим. к. 9
END:VEVENT
BEGIN:VEVENT
UID:rieh@192.168.245.71:3006
SEQUENCE:0
DTSTAMP:20260425T134837Z
DTSTART:20251218T070000Z
DTEND:20251218T100000Z
SUMMARY:Численные методы в теплофизике и теплоэнергетике
LOCATION:Хим. к. 9
END:VEVENT
BEGIN:VEVENT
UID:5xsj@192.168.245.71:3006
SEQUENCE:0
DTSTAMP:20260425T134837Z
DTSTART:20251218T100000Z
DTEND:20251218T130000Z
SUMMARY:Численные методы в теплофизике и теплоэнергетике
LOCATION:Хим. к. 9
END:VEVENT
BEGIN:VEVENT
UID:ksrn@192.168.245.71:3006
SEQUENCE:0
DTSTAMP:20260425T134837Z
DTSTART:20251220T070000Z
DTEND:20251220T100000Z
SUMMARY:Энергетические паспорта потребителей ТЭР
LOCATION:Хим. к. 9
END:VEVENT
BEGIN:VEVENT
UID:5iz5@192.168.245.71:3006
SEQUENCE:0
DTSTAMP:20260425T134837Z
DTSTART:20251220T100000Z
DTEND:20251220T133000Z
SUMMARY:Энергетические паспорта потребителей ТЭР
LOCATION:Хим. к. 9
END:VEVENT
END:VCALENDAR