BEGIN:VCALENDAR
VERSION:2.0
PRODID:-//spbstu.ru//ical//RU
NAME:Расписание группы 3241301/40501
X-WR-CALNAME:Расписание группы 3241301/40501
TIMEZONE-ID:Europe/Moscow
X-WR-TIMEZONE:Europe/Moscow
BEGIN:VEVENT
UID:4wxm@192.168.245.71:3006
SEQUENCE:0
DTSTAMP:20260424T145110Z
DTSTART:20260112T070000Z
DTEND:20260112T084000Z
SUMMARY:Энергетический и теплофизический инжиниринг
LOCATION:Мех. к. 26
END:VEVENT
BEGIN:VEVENT
UID:t15x@192.168.245.71:3006
SEQUENCE:0
DTSTAMP:20260424T145110Z
DTSTART:20260113T070000Z
DTEND:20260113T130000Z
SUMMARY:Энергетический и теплофизический инжиниринг
LOCATION:Мех. к. 26
END:VEVENT
BEGIN:VEVENT
UID:5o3v@192.168.245.71:3006
SEQUENCE:0
DTSTAMP:20260424T145110Z
DTSTART:20260115T070000Z
DTEND:20260115T100000Z
SUMMARY:Образовательный форсайт
LOCATION:ТВН ВШАиТЭ уч.ауд.№102
END:VEVENT
BEGIN:VEVENT
UID:yrq5@192.168.245.71:3006
SEQUENCE:0
DTSTAMP:20260424T145110Z
DTSTART:20260117T070000Z
DTEND:20260117T084000Z
SUMMARY:Энергетическое обследование объектов промышленности и ЖКХ
LOCATION:Мех. к. 26
END:VEVENT
BEGIN:VEVENT
UID:r9gr@192.168.245.71:3006
SEQUENCE:0
DTSTAMP:20260424T145110Z
DTSTART:20260117T090000Z
DTEND:20260117T150000Z
SUMMARY:Энергетическое обследование объектов промышленности и ЖКХ
LOCATION:Мех. к. 26
END:VEVENT
END:VCALENDAR