BEGIN:VCALENDAR
VERSION:2.0
PRODID:-//spbstu.ru//ical//RU
NAME:Расписание группы 3241302/42801
X-WR-CALNAME:Расписание группы 3241302/42801
TIMEZONE-ID:Europe/Moscow
X-WR-TIMEZONE:Europe/Moscow
BEGIN:VEVENT
UID:07ci@192.168.245.71:3006
SEQUENCE:0
DTSTAMP:20260426T000432Z
DTSTART:20251008T070000Z
DTEND:20251008T084000Z
SUMMARY:Экономика энергетики
LOCATION:ТВН ВШАиТЭ уч.ауд.№302а
END:VEVENT
BEGIN:VEVENT
UID:na7m@192.168.245.71:3006
SEQUENCE:0
DTSTAMP:20260426T000432Z
DTSTART:20251008T090000Z
DTEND:20251008T104000Z
SUMMARY:Оптимизация структуры оборудования и параметров объектов ВИЭ
LOCATION:ТВН 302
END:VEVENT
BEGIN:VEVENT
UID:89au@192.168.245.71:3006
SEQUENCE:0
DTSTAMP:20260426T000432Z
DTSTART:20251009T070000Z
DTEND:20251009T084000Z
SUMMARY:Основы проектирования энергокомплексов и автономных источников эле
 ктрической энергии на базе ВИЭ
LOCATION:ВИТ 402
END:VEVENT
BEGIN:VEVENT
UID:qm5m@192.168.245.71:3006
SEQUENCE:0
DTSTAMP:20260426T000432Z
DTSTART:20251009T090000Z
DTEND:20251009T104000Z
SUMMARY:Методы оптимизации состава оборудования объектов ВИЭ
LOCATION:ГЗ 276
END:VEVENT
BEGIN:VEVENT
UID:cwix@192.168.245.71:3006
SEQUENCE:0
DTSTAMP:20260426T000432Z
DTSTART:20251009T110000Z
DTEND:20251009T124000Z
SUMMARY:Экономика энергетики
LOCATION:ГЗ 329
END:VEVENT
BEGIN:VEVENT
UID:s0ut@192.168.245.71:3006
SEQUENCE:0
DTSTAMP:20260426T000432Z
DTSTART:20251011T090000Z
DTEND:20251011T104000Z
SUMMARY:Проблемы работы автономных энергетических комплексов с возобновляе
 мыми источниками энергии
LOCATION:ГЗ 276
END:VEVENT
BEGIN:VEVENT
UID:ar7q@192.168.245.71:3006
SEQUENCE:0
DTSTAMP:20260426T000432Z
DTSTART:20251011T110000Z
DTEND:20251011T124000Z
SUMMARY:Решение полевых задач электротехники и электроэнергетики
LOCATION:ГЗ 176
END:VEVENT
BEGIN:VEVENT
UID:l65c@192.168.245.71:3006
SEQUENCE:0
DTSTAMP:20260426T000432Z
DTSTART:20251011T110000Z
DTEND:20251011T124000Z
SUMMARY:Решение полевых задач электротехники и электроэнергетики
LOCATION:ГЗ 176
END:VEVENT
END:VCALENDAR