BEGIN:VCALENDAR
VERSION:2.0
PRODID:-//spbstu.ru//ical//RU
NAME:Расписание группы 3241302/42801
X-WR-CALNAME:Расписание группы 3241302/42801
TIMEZONE-ID:Europe/Moscow
X-WR-TIMEZONE:Europe/Moscow
BEGIN:VEVENT
UID:axgl@192.168.245.71:3006
SEQUENCE:0
DTSTAMP:20260423T210721Z
DTSTART:20260112T070000Z
DTEND:20260112T130000Z
SUMMARY:Методы оптимизации состава оборудования объектов ВИЭ
LOCATION:ГЗ 256
END:VEVENT
BEGIN:VEVENT
UID:pgu2@192.168.245.71:3006
SEQUENCE:0
DTSTAMP:20260423T210721Z
DTSTART:20260116T070000Z
DTEND:20260116T084000Z
SUMMARY:Экономика энергетики
LOCATION:ГЗ 284
END:VEVENT
BEGIN:VEVENT
UID:wz9w@192.168.245.71:3006
SEQUENCE:0
DTSTAMP:20260423T210721Z
DTSTART:20260117T070000Z
DTEND:20260117T130000Z
SUMMARY:Экономика энергетики
LOCATION:ГЗ 256
END:VEVENT
END:VCALENDAR