BEGIN:VCALENDAR
VERSION:2.0
PRODID:-//spbstu.ru//ical//RU
NAME:Расписание группы 3241303/40301
X-WR-CALNAME:Расписание группы 3241303/40301
TIMEZONE-ID:Europe/Moscow
X-WR-TIMEZONE:Europe/Moscow
BEGIN:VEVENT
UID:45j6@192.168.245.71:3006
SEQUENCE:0
DTSTAMP:20260424T084436Z
DTSTART:20251125T090000Z
DTEND:20251125T104000Z
SUMMARY:Компьютерные технологии в науке
LOCATION:Мех. к. Уч. кл. ДВС №82
END:VEVENT
BEGIN:VEVENT
UID:dub8@192.168.245.71:3006
SEQUENCE:0
DTSTAMP:20260424T084436Z
DTSTART:20251125T110000Z
DTEND:20251125T124000Z
SUMMARY:Компьютерные технологии в науке
LOCATION:Мех. к. Уч. кл. ДВС №82
END:VEVENT
BEGIN:VEVENT
UID:u2ye@192.168.245.71:3006
SEQUENCE:0
DTSTAMP:20260424T084436Z
DTSTART:20251125T130000Z
DTEND:20251125T144000Z
SUMMARY:Современные методы повышения надежности и ресурса ДВС
LOCATION:Мех. к. Учебная лаб. ДВС №84
END:VEVENT
BEGIN:VEVENT
UID:24h3@192.168.245.71:3006
SEQUENCE:0
DTSTAMP:20260424T084436Z
DTSTART:20251126T070000Z
DTEND:20251126T084000Z
SUMMARY:Современные проблемы науки и производства в энергетическом машинос
 троении
LOCATION:Мех. к. Уч. кл. ДВС №82
END:VEVENT
BEGIN:VEVENT
UID:g0i0@192.168.245.71:3006
SEQUENCE:0
DTSTAMP:20260424T084436Z
DTSTART:20251126T090000Z
DTEND:20251126T104000Z
SUMMARY:Организация\, обработка и анализ данных специального эксперимента 
 ДВС
LOCATION:Мех. к. Комп. кл. ДВС №210
END:VEVENT
BEGIN:VEVENT
UID:af29@192.168.245.71:3006
SEQUENCE:0
DTSTAMP:20260424T084436Z
DTSTART:20251126T110000Z
DTEND:20251126T124000Z
SUMMARY:Организация\, обработка и анализ данных специального эксперимента 
 ДВС
LOCATION:Мех. к. Комп. кл. ДВС №210
END:VEVENT
BEGIN:VEVENT
UID:ap6p@192.168.245.71:3006
SEQUENCE:0
DTSTAMP:20260424T084436Z
DTSTART:20251128T090000Z
DTEND:20251128T104000Z
SUMMARY:Моделирование теплонапряженного состояния деталей ДВС
LOCATION:Мех. к. Комп. кл. ДВС №210
END:VEVENT
BEGIN:VEVENT
UID:0f5n@192.168.245.71:3006
SEQUENCE:0
DTSTAMP:20260424T084436Z
DTSTART:20251128T110000Z
DTEND:20251128T124000Z
SUMMARY:Техническая экспертиза ДВС
LOCATION:Мех. к. Учебная лаб. ДВС №84
END:VEVENT
END:VCALENDAR