BEGIN:VCALENDAR
VERSION:2.0
PRODID:-//spbstu.ru//ical//RU
NAME:Расписание группы 3241303/40501
X-WR-CALNAME:Расписание группы 3241303/40501
TIMEZONE-ID:Europe/Moscow
X-WR-TIMEZONE:Europe/Moscow
BEGIN:VEVENT
UID:r3q7@192.168.245.71:3006
SEQUENCE:0
DTSTAMP:20260424T202340Z
DTSTART:20260112T070000Z
DTEND:20260112T110000Z
SUMMARY:Компьютерные технологии в науке
LOCATION:Мех. к. Комп. кл. КВХТ №37
END:VEVENT
BEGIN:VEVENT
UID:eqfp@192.168.245.71:3006
SEQUENCE:0
DTSTAMP:20260424T202340Z
DTSTART:20260114T070000Z
DTEND:20260114T100000Z
SUMMARY:Образовательный форсайт
LOCATION:ГЗ 284
END:VEVENT
BEGIN:VEVENT
UID:3ocr@192.168.245.71:3006
SEQUENCE:0
DTSTAMP:20260424T202340Z
DTSTART:20260116T110000Z
DTEND:20260116T150000Z
SUMMARY:Промышленные испытания и экспериментальные исследования компрессор
 ных установок: планирование\, обработка и анализ данных
LOCATION:Мех. к. Комп. кл. КВХТ №36
END:VEVENT
END:VCALENDAR