BEGIN:VCALENDAR
VERSION:2.0
PRODID:-//spbstu.ru//ical//RU
NAME:Расписание группы 3241303/40901
X-WR-CALNAME:Расписание группы 3241303/40901
TIMEZONE-ID:Europe/Moscow
X-WR-TIMEZONE:Europe/Moscow
BEGIN:VEVENT
UID:7dp7@192.168.245.71:3006
SEQUENCE:0
DTSTAMP:20260423T152302Z
DTSTART:20260316T070000Z
DTEND:20260316T084000Z
SUMMARY:Компьютерные технологии в науке
LOCATION:Мех. к. ВЦ
END:VEVENT
END:VCALENDAR