BEGIN:VCALENDAR
VERSION:2.0
PRODID:-//spbstu.ru//ical//RU
NAME:Расписание группы 3241401/40101
X-WR-CALNAME:Расписание группы 3241401/40101
TIMEZONE-ID:Europe/Moscow
X-WR-TIMEZONE:Europe/Moscow
BEGIN:VEVENT
UID:wzep@192.168.245.71:3006
SEQUENCE:0
DTSTAMP:20260425T231048Z
DTSTART:20251028T130000Z
DTEND:20251028T144000Z
SUMMARY:Эксплуатация АЭС
LOCATION:ТВН ВШАиТЭ уч.ауд.№303
END:VEVENT
BEGIN:VEVENT
UID:pv28@192.168.245.71:3006
SEQUENCE:0
DTSTAMP:20260425T231048Z
DTSTART:20251028T150000Z
DTEND:20251028T164000Z
SUMMARY:Типовые расчеты трубопроводов АЭС
LOCATION:ГЗ 222
END:VEVENT
BEGIN:VEVENT
UID:k7dw@192.168.245.71:3006
SEQUENCE:0
DTSTAMP:20260425T231048Z
DTSTART:20251031T130000Z
DTEND:20251031T144000Z
SUMMARY:Системы управления и защиты АЭС
LOCATION:ТВН ВШАиТЭ уч.ауд.№303
END:VEVENT
BEGIN:VEVENT
UID:wdfc@192.168.245.71:3006
SEQUENCE:0
DTSTAMP:20260425T231048Z
DTSTART:20251031T150000Z
DTEND:20251031T164000Z
SUMMARY:Эксплуатация АЭС
LOCATION:ТВН ВШАиТЭ уч.ауд.№303
END:VEVENT
BEGIN:VEVENT
UID:2z1h@192.168.245.71:3006
SEQUENCE:0
DTSTAMP:20260425T231048Z
DTSTART:20251101T050000Z
DTEND:20251101T064000Z
SUMMARY:Моделирование тепловых схем АЭС
LOCATION:ТВН ВШАиТЭ комп.кл.
END:VEVENT
BEGIN:VEVENT
UID:8u2h@192.168.245.71:3006
SEQUENCE:0
DTSTAMP:20260425T231048Z
DTSTART:20251101T070000Z
DTEND:20251101T084000Z
SUMMARY:Системы управления и защиты АЭС
LOCATION:ГЗ 225
END:VEVENT
END:VCALENDAR