BEGIN:VCALENDAR
VERSION:2.0
PRODID:-//spbstu.ru//ical//RU
NAME:Расписание группы 3241401/40101
X-WR-CALNAME:Расписание группы 3241401/40101
TIMEZONE-ID:Europe/Moscow
X-WR-TIMEZONE:Europe/Moscow
BEGIN:VEVENT
UID:u28w@192.168.245.71:3006
SEQUENCE:0
DTSTAMP:20260424T164835Z
DTSTART:20251125T130000Z
DTEND:20251125T144000Z
SUMMARY:Эксплуатация АЭС
LOCATION:ТВН ВШАиТЭ уч.ауд.№303
END:VEVENT
BEGIN:VEVENT
UID:4ogj@192.168.245.71:3006
SEQUENCE:0
DTSTAMP:20260424T164835Z
DTSTART:20251125T150000Z
DTEND:20251125T164000Z
SUMMARY:Типовые расчеты трубопроводов АЭС
LOCATION:ГЗ 222
END:VEVENT
BEGIN:VEVENT
UID:95q2@192.168.245.71:3006
SEQUENCE:0
DTSTAMP:20260424T164835Z
DTSTART:20251128T130000Z
DTEND:20251128T144000Z
SUMMARY:Системы управления и защиты АЭС
LOCATION:ТВН ВШАиТЭ уч.ауд.№303
END:VEVENT
BEGIN:VEVENT
UID:v6s2@192.168.245.71:3006
SEQUENCE:0
DTSTAMP:20260424T164835Z
DTSTART:20251128T150000Z
DTEND:20251128T164000Z
SUMMARY:Эксплуатация АЭС
LOCATION:ТВН ВШАиТЭ уч.ауд.№303
END:VEVENT
BEGIN:VEVENT
UID:knvu@192.168.245.71:3006
SEQUENCE:0
DTSTAMP:20260424T164835Z
DTSTART:20251129T050000Z
DTEND:20251129T064000Z
SUMMARY:Моделирование тепловых схем АЭС
LOCATION:ТВН ВШАиТЭ комп.кл.
END:VEVENT
BEGIN:VEVENT
UID:h9jw@192.168.245.71:3006
SEQUENCE:0
DTSTAMP:20260424T164835Z
DTSTART:20251129T070000Z
DTEND:20251129T084000Z
SUMMARY:Системы управления и защиты АЭС
LOCATION:ГЗ 225
END:VEVENT
END:VCALENDAR