BEGIN:VCALENDAR
VERSION:2.0
PRODID:-//spbstu.ru//ical//RU
NAME:Расписание группы 3241401/40101
X-WR-CALNAME:Расписание группы 3241401/40101
TIMEZONE-ID:Europe/Moscow
X-WR-TIMEZONE:Europe/Moscow
BEGIN:VEVENT
UID:k2rg@192.168.245.71:3006
SEQUENCE:0
DTSTAMP:20260424T145126Z
DTSTART:20251202T150000Z
DTEND:20251202T164000Z
SUMMARY:Типовые расчеты трубопроводов АЭС
LOCATION:ГЗ 222
END:VEVENT
BEGIN:VEVENT
UID:izla@192.168.245.71:3006
SEQUENCE:0
DTSTAMP:20260424T145126Z
DTSTART:20251205T150000Z
DTEND:20251205T164000Z
SUMMARY:Эксплуатация АЭС
LOCATION:ТВН ВШАиТЭ уч.ауд.№303
END:VEVENT
BEGIN:VEVENT
UID:9cfv@192.168.245.71:3006
SEQUENCE:0
DTSTAMP:20260424T145126Z
DTSTART:20251206T050000Z
DTEND:20251206T064000Z
SUMMARY:Моделирование тепловых схем АЭС
LOCATION:ТВН ВШАиТЭ комп.кл.
END:VEVENT
BEGIN:VEVENT
UID:rzcc@192.168.245.71:3006
SEQUENCE:0
DTSTAMP:20260424T145126Z
DTSTART:20251206T070000Z
DTEND:20251206T084000Z
SUMMARY:Системы управления и защиты АЭС
LOCATION:ГЗ 225
END:VEVENT
BEGIN:VEVENT
UID:2wgv@192.168.245.71:3006
SEQUENCE:0
DTSTAMP:20260424T145126Z
DTSTART:20251206T090000Z
DTEND:20251206T104000Z
SUMMARY:Моделирование тепловых схем АЭС
LOCATION:ТВН ВШАиТЭ комп.кл.
END:VEVENT
END:VCALENDAR