BEGIN:VCALENDAR
VERSION:2.0
PRODID:-//spbstu.ru//ical//RU
NAME:Расписание группы 3251402/40003
X-WR-CALNAME:Расписание группы 3251402/40003
TIMEZONE-ID:Europe/Moscow
X-WR-TIMEZONE:Europe/Moscow
BEGIN:VEVENT
UID:fwwq@192.168.245.71:3006
SEQUENCE:0
DTSTAMP:20260423T222601Z
DTSTART:20251027T070000Z
DTEND:20251027T084000Z
SUMMARY:Тепломассообмен
LOCATION:Хим. к. Лаб.№10 Тепло- и массообмен
END:VEVENT
BEGIN:VEVENT
UID:kjcv@192.168.245.71:3006
SEQUENCE:0
DTSTAMP:20260423T222601Z
DTSTART:20251027T090000Z
DTEND:20251027T104000Z
SUMMARY:Тепломассообмен
LOCATION:ГЗ 283
END:VEVENT
BEGIN:VEVENT
UID:ids6@192.168.245.71:3006
SEQUENCE:0
DTSTAMP:20260423T222601Z
DTSTART:20251027T110000Z
DTEND:20251027T124000Z
SUMMARY:Компьютерные технологии
LOCATION:ГЗ 122
END:VEVENT
BEGIN:VEVENT
UID:pxq6@192.168.245.71:3006
SEQUENCE:0
DTSTAMP:20260423T222601Z
DTSTART:20251027T130000Z
DTEND:20251027T144000Z
SUMMARY:Компьютерные технологии
LOCATION:ТВН ВШАиТЭ комп.кл.
END:VEVENT
BEGIN:VEVENT
UID:37um@192.168.245.71:3006
SEQUENCE:0
DTSTAMP:20260423T222601Z
DTSTART:20251028T070000Z
DTEND:20251028T084000Z
SUMMARY:Механика жидкости и газа
LOCATION:Мех. к. 14
END:VEVENT
BEGIN:VEVENT
UID:ju4h@192.168.245.71:3006
SEQUENCE:0
DTSTAMP:20260423T222601Z
DTSTART:20251028T090000Z
DTEND:20251028T104000Z
SUMMARY:Термодинамика
LOCATION:ГЗ 283
END:VEVENT
BEGIN:VEVENT
UID:msg0@192.168.245.71:3006
SEQUENCE:0
DTSTAMP:20260423T222601Z
DTSTART:20251028T110000Z
DTEND:20251028T124000Z
SUMMARY:Элективная физическая культура и спорт
LOCATION:СК Секции
END:VEVENT
BEGIN:VEVENT
UID:zwx4@192.168.245.71:3006
SEQUENCE:0
DTSTAMP:20260423T222601Z
DTSTART:20251028T130000Z
DTEND:20251028T144000Z
SUMMARY:Термодинамика
LOCATION:Мех. к. 14
END:VEVENT
BEGIN:VEVENT
UID:oh99@192.168.245.71:3006
SEQUENCE:0
DTSTAMP:20260423T222601Z
DTSTART:20251029T070000Z
DTEND:20251029T084000Z
SUMMARY:Термодинамика
LOCATION:Хим. к. лаб.8 Термодинамика
END:VEVENT
BEGIN:VEVENT
UID:i74y@192.168.245.71:3006
SEQUENCE:0
DTSTAMP:20260423T222601Z
DTSTART:20251029T090000Z
DTEND:20251029T104000Z
SUMMARY:Механика жидкости и газа
LOCATION:Хим. к. лаб.№11 Механика жидкости и газа
END:VEVENT
BEGIN:VEVENT
UID:2ds8@192.168.245.71:3006
SEQUENCE:0
DTSTAMP:20260423T222601Z
DTSTART:20251029T110000Z
DTEND:20251029T124000Z
SUMMARY:Высшая математика
LOCATION:ГЗ 220
END:VEVENT
BEGIN:VEVENT
UID:eeeo@192.168.245.71:3006
SEQUENCE:0
DTSTAMP:20260423T222601Z
DTSTART:20251029T130000Z
DTEND:20251029T144000Z
SUMMARY:Модуль саморазвития (SoftSkills)
LOCATION:DL Дистанционно
END:VEVENT
BEGIN:VEVENT
UID:3uko@192.168.245.71:3006
SEQUENCE:0
DTSTAMP:20260423T222601Z
DTSTART:20251030T070000Z
DTEND:20251030T084000Z
SUMMARY:Высшая математика
LOCATION:ГЗ 224
END:VEVENT
BEGIN:VEVENT
UID:tw19@192.168.245.71:3006
SEQUENCE:0
DTSTAMP:20260423T222601Z
DTSTART:20251030T090000Z
DTEND:20251030T104000Z
SUMMARY:Основы квантовой механики
LOCATION:ГЗ 279
END:VEVENT
BEGIN:VEVENT
UID:e5oh@192.168.245.71:3006
SEQUENCE:0
DTSTAMP:20260423T222601Z
DTSTART:20251030T110000Z
DTEND:20251030T124000Z
SUMMARY:Основы квантовой механики
LOCATION:ГЗ 305
END:VEVENT
BEGIN:VEVENT
UID:cwtb@192.168.245.71:3006
SEQUENCE:0
DTSTAMP:20260423T222601Z
DTSTART:20251030T130000Z
DTEND:20251030T144000Z
SUMMARY:Иностранный язык: Базовый курс
LOCATION:ГЗ 210
END:VEVENT
BEGIN:VEVENT
UID:l2sr@192.168.245.71:3006
SEQUENCE:0
DTSTAMP:20260423T222601Z
DTSTART:20251031T070000Z
DTEND:20251031T084000Z
SUMMARY:История России
LOCATION:ГЗ 244
END:VEVENT
BEGIN:VEVENT
UID:kkau@192.168.245.71:3006
SEQUENCE:0
DTSTAMP:20260423T222601Z
DTSTART:20251031T090000Z
DTEND:20251031T104000Z
SUMMARY:Механика жидкости и газа
LOCATION:ГЗ 224
END:VEVENT
BEGIN:VEVENT
UID:xmoj@192.168.245.71:3006
SEQUENCE:0
DTSTAMP:20260423T222601Z
DTSTART:20251031T110000Z
DTEND:20251031T124000Z
SUMMARY:Элективная физическая культура и спорт
LOCATION:СК Секции
END:VEVENT
BEGIN:VEVENT
UID:18i6@192.168.245.71:3006
SEQUENCE:0
DTSTAMP:20260423T222601Z
DTSTART:20251101T060000Z
DTEND:20251101T083000Z
SUMMARY:Иностранный язык: Русский язык как иностранный
LOCATION:ГЗ 229
END:VEVENT
END:VCALENDAR