BEGIN:VCALENDAR
VERSION:2.0
PRODID:-//spbstu.ru//ical//RU
NAME:Расписание группы 3251402/40003
X-WR-CALNAME:Расписание группы 3251402/40003
TIMEZONE-ID:Europe/Moscow
X-WR-TIMEZONE:Europe/Moscow
BEGIN:VEVENT
UID:9ssy@192.168.245.71:3006
SEQUENCE:0
DTSTAMP:20260422T124336Z
DTSTART:20251215T090000Z
DTEND:20251215T104000Z
SUMMARY:Тепломассообмен
LOCATION:ГЗ 283
END:VEVENT
BEGIN:VEVENT
UID:hjmc@192.168.245.71:3006
SEQUENCE:0
DTSTAMP:20260422T124336Z
DTSTART:20251215T110000Z
DTEND:20251215T124000Z
SUMMARY:Компьютерные технологии
LOCATION:ГЗ 122
END:VEVENT
BEGIN:VEVENT
UID:fihu@192.168.245.71:3006
SEQUENCE:0
DTSTAMP:20260422T124336Z
DTSTART:20251215T130000Z
DTEND:20251215T144000Z
SUMMARY:Компьютерные технологии
LOCATION:ТВН ВШАиТЭ комп.кл.
END:VEVENT
BEGIN:VEVENT
UID:eesg@192.168.245.71:3006
SEQUENCE:0
DTSTAMP:20260422T124336Z
DTSTART:20251216T090000Z
DTEND:20251216T104000Z
SUMMARY:Термодинамика
LOCATION:ГЗ 283
END:VEVENT
BEGIN:VEVENT
UID:s9hg@192.168.245.71:3006
SEQUENCE:0
DTSTAMP:20260422T124336Z
DTSTART:20251216T110000Z
DTEND:20251216T124000Z
SUMMARY:История России
LOCATION:ГЗ 283
END:VEVENT
BEGIN:VEVENT
UID:5ms8@192.168.245.71:3006
SEQUENCE:0
DTSTAMP:20260422T124336Z
DTSTART:20251216T130000Z
DTEND:20251216T144000Z
SUMMARY:Тепломассообмен
LOCATION:Мех. к. 14
END:VEVENT
BEGIN:VEVENT
UID:a16f@192.168.245.71:3006
SEQUENCE:0
DTSTAMP:20260422T124336Z
DTSTART:20251218T100000Z
DTEND:20251218T130000Z
SUMMARY:Высшая математика (продвинутый уровень)
LOCATION:ГЗ 220
END:VEVENT
BEGIN:VEVENT
UID:hdai@192.168.245.71:3006
SEQUENCE:0
DTSTAMP:20260422T124336Z
DTSTART:20251220T070000Z
DTEND:20251220T110000Z
SUMMARY:История России
LOCATION:ГЗ 228
END:VEVENT
END:VCALENDAR