BEGIN:VCALENDAR
VERSION:2.0
PRODID:-//spbstu.ru//ical//RU
NAME:Расписание группы 3251402/40003
X-WR-CALNAME:Расписание группы 3251402/40003
TIMEZONE-ID:Europe/Moscow
X-WR-TIMEZONE:Europe/Moscow
BEGIN:VEVENT
UID:obld@192.168.245.71:3006
SEQUENCE:0
DTSTAMP:20260424T164744Z
DTSTART:20250922T070000Z
DTEND:20250922T084000Z
SUMMARY:Тепломассообмен
LOCATION:Хим. к. Лаб.№10 Тепло- и массообмен
END:VEVENT
BEGIN:VEVENT
UID:h5d3@192.168.245.71:3006
SEQUENCE:0
DTSTAMP:20260424T164744Z
DTSTART:20250922T090000Z
DTEND:20250922T104000Z
SUMMARY:Тепломассообмен
LOCATION:ГЗ 283
END:VEVENT
BEGIN:VEVENT
UID:iesd@192.168.245.71:3006
SEQUENCE:0
DTSTAMP:20260424T164744Z
DTSTART:20250922T110000Z
DTEND:20250922T124000Z
SUMMARY:Компьютерные технологии
LOCATION:ГЗ 122
END:VEVENT
BEGIN:VEVENT
UID:wwue@192.168.245.71:3006
SEQUENCE:0
DTSTAMP:20260424T164744Z
DTSTART:20250922T130000Z
DTEND:20250922T144000Z
SUMMARY:Компьютерные технологии
LOCATION:ТВН ВШАиТЭ комп.кл.
END:VEVENT
BEGIN:VEVENT
UID:vgbs@192.168.245.71:3006
SEQUENCE:0
DTSTAMP:20260424T164744Z
DTSTART:20250923T090000Z
DTEND:20250923T104000Z
SUMMARY:Термодинамика
LOCATION:ГЗ 283
END:VEVENT
BEGIN:VEVENT
UID:fh4r@192.168.245.71:3006
SEQUENCE:0
DTSTAMP:20260424T164744Z
DTSTART:20250923T110000Z
DTEND:20250923T124000Z
SUMMARY:Элективная физическая культура и спорт
LOCATION:СК Секции
END:VEVENT
BEGIN:VEVENT
UID:9ov9@192.168.245.71:3006
SEQUENCE:0
DTSTAMP:20260424T164744Z
DTSTART:20250923T130000Z
DTEND:20250923T144000Z
SUMMARY:Тепломассообмен
LOCATION:Мех. к. 14
END:VEVENT
BEGIN:VEVENT
UID:unh7@192.168.245.71:3006
SEQUENCE:0
DTSTAMP:20260424T164744Z
DTSTART:20250924T050000Z
DTEND:20250924T064000Z
SUMMARY:История России
LOCATION:ГЗ 215
END:VEVENT
BEGIN:VEVENT
UID:g21m@192.168.245.71:3006
SEQUENCE:0
DTSTAMP:20260424T164744Z
DTSTART:20250924T070000Z
DTEND:20250924T084000Z
SUMMARY:Термодинамика
LOCATION:Хим. к. лаб.8 Термодинамика
END:VEVENT
BEGIN:VEVENT
UID:9b66@192.168.245.71:3006
SEQUENCE:0
DTSTAMP:20260424T164744Z
DTSTART:20250924T090000Z
DTEND:20250924T104000Z
SUMMARY:Механика жидкости и газа
LOCATION:Хим. к. лаб.№11 Механика жидкости и газа
END:VEVENT
BEGIN:VEVENT
UID:mpsm@192.168.245.71:3006
SEQUENCE:0
DTSTAMP:20260424T164744Z
DTSTART:20250924T110000Z
DTEND:20250924T124000Z
SUMMARY:Высшая математика
LOCATION:ГЗ 220
END:VEVENT
BEGIN:VEVENT
UID:jxln@192.168.245.71:3006
SEQUENCE:0
DTSTAMP:20260424T164744Z
DTSTART:20250924T130000Z
DTEND:20250924T144000Z
SUMMARY:Модуль саморазвития (SoftSkills)
LOCATION:DL Дистанционно
END:VEVENT
BEGIN:VEVENT
UID:uury@192.168.245.71:3006
SEQUENCE:0
DTSTAMP:20260424T164744Z
DTSTART:20250925T070000Z
DTEND:20250925T084000Z
SUMMARY:Высшая математика (продвинутый уровень)
LOCATION:ГЗ 224
END:VEVENT
BEGIN:VEVENT
UID:et3z@192.168.245.71:3006
SEQUENCE:0
DTSTAMP:20260424T164744Z
DTSTART:20250925T090000Z
DTEND:20250925T104000Z
SUMMARY:Высшая математика (продвинутый уровень)
LOCATION:ГЗ 220
END:VEVENT
BEGIN:VEVENT
UID:rt10@192.168.245.71:3006
SEQUENCE:0
DTSTAMP:20260424T164744Z
DTSTART:20250925T110000Z
DTEND:20250925T124000Z
SUMMARY:Основы квантовой механики
LOCATION:ГЗ 305
END:VEVENT
BEGIN:VEVENT
UID:wdh1@192.168.245.71:3006
SEQUENCE:0
DTSTAMP:20260424T164744Z
DTSTART:20250925T130000Z
DTEND:20250925T144000Z
SUMMARY:Иностранный язык: Базовый курс
LOCATION:ГЗ 210
END:VEVENT
BEGIN:VEVENT
UID:p61o@192.168.245.71:3006
SEQUENCE:0
DTSTAMP:20260424T164744Z
DTSTART:20250926T070000Z
DTEND:20250926T084000Z
SUMMARY:История России
LOCATION:ГЗ 244
END:VEVENT
BEGIN:VEVENT
UID:uear@192.168.245.71:3006
SEQUENCE:0
DTSTAMP:20260424T164744Z
DTSTART:20250926T090000Z
DTEND:20250926T104000Z
SUMMARY:Механика жидкости и газа
LOCATION:ГЗ 224
END:VEVENT
BEGIN:VEVENT
UID:6wci@192.168.245.71:3006
SEQUENCE:0
DTSTAMP:20260424T164744Z
DTSTART:20250926T110000Z
DTEND:20250926T124000Z
SUMMARY:Элективная физическая культура и спорт
LOCATION:СК Секции
END:VEVENT
BEGIN:VEVENT
UID:pe5w@192.168.245.71:3006
SEQUENCE:0
DTSTAMP:20260424T164744Z
DTSTART:20250927T060000Z
DTEND:20250927T083000Z
SUMMARY:Иностранный язык: Русский язык как иностранный
LOCATION:ГЗ 229
END:VEVENT
END:VCALENDAR