BEGIN:VCALENDAR
VERSION:2.0
PRODID:-//spbstu.ru//ical//RU
NAME:Расписание группы 3251402/40003
X-WR-CALNAME:Расписание группы 3251402/40003
TIMEZONE-ID:Europe/Moscow
X-WR-TIMEZONE:Europe/Moscow
BEGIN:VEVENT
UID:5622@192.168.245.71:3006
SEQUENCE:0
DTSTAMP:20260424T061325Z
DTSTART:20250929T070000Z
DTEND:20250929T084000Z
SUMMARY:Тепломассообмен
LOCATION:Хим. к. Лаб.№10 Тепло- и массообмен
END:VEVENT
BEGIN:VEVENT
UID:8997@192.168.245.71:3006
SEQUENCE:0
DTSTAMP:20260424T061325Z
DTSTART:20250929T090000Z
DTEND:20250929T104000Z
SUMMARY:Тепломассообмен
LOCATION:ГЗ 283
END:VEVENT
BEGIN:VEVENT
UID:1hlt@192.168.245.71:3006
SEQUENCE:0
DTSTAMP:20260424T061325Z
DTSTART:20250929T110000Z
DTEND:20250929T124000Z
SUMMARY:Компьютерные технологии
LOCATION:ГЗ 122
END:VEVENT
BEGIN:VEVENT
UID:ocvo@192.168.245.71:3006
SEQUENCE:0
DTSTAMP:20260424T061325Z
DTSTART:20250929T130000Z
DTEND:20250929T144000Z
SUMMARY:Компьютерные технологии
LOCATION:ТВН ВШАиТЭ комп.кл.
END:VEVENT
BEGIN:VEVENT
UID:c8lq@192.168.245.71:3006
SEQUENCE:0
DTSTAMP:20260424T061325Z
DTSTART:20250930T070000Z
DTEND:20250930T084000Z
SUMMARY:Механика жидкости и газа
LOCATION:Мех. к. 14
END:VEVENT
BEGIN:VEVENT
UID:dtrr@192.168.245.71:3006
SEQUENCE:0
DTSTAMP:20260424T061325Z
DTSTART:20250930T090000Z
DTEND:20250930T104000Z
SUMMARY:Термодинамика
LOCATION:ГЗ 283
END:VEVENT
BEGIN:VEVENT
UID:dbib@192.168.245.71:3006
SEQUENCE:0
DTSTAMP:20260424T061325Z
DTSTART:20250930T110000Z
DTEND:20250930T124000Z
SUMMARY:Элективная физическая культура и спорт
LOCATION:СК Секции
END:VEVENT
BEGIN:VEVENT
UID:qyrf@192.168.245.71:3006
SEQUENCE:0
DTSTAMP:20260424T061325Z
DTSTART:20250930T130000Z
DTEND:20250930T144000Z
SUMMARY:Термодинамика
LOCATION:Мех. к. 14
END:VEVENT
BEGIN:VEVENT
UID:acad@192.168.245.71:3006
SEQUENCE:0
DTSTAMP:20260424T061325Z
DTSTART:20251001T070000Z
DTEND:20251001T084000Z
SUMMARY:Термодинамика
LOCATION:Хим. к. лаб.8 Термодинамика
END:VEVENT
BEGIN:VEVENT
UID:2fym@192.168.245.71:3006
SEQUENCE:0
DTSTAMP:20260424T061325Z
DTSTART:20251001T090000Z
DTEND:20251001T104000Z
SUMMARY:Механика жидкости и газа
LOCATION:Хим. к. лаб.№11 Механика жидкости и газа
END:VEVENT
BEGIN:VEVENT
UID:ae0w@192.168.245.71:3006
SEQUENCE:0
DTSTAMP:20260424T061325Z
DTSTART:20251001T110000Z
DTEND:20251001T124000Z
SUMMARY:Высшая математика
LOCATION:ГЗ 220
END:VEVENT
BEGIN:VEVENT
UID:ex4e@192.168.245.71:3006
SEQUENCE:0
DTSTAMP:20260424T061325Z
DTSTART:20251001T130000Z
DTEND:20251001T144000Z
SUMMARY:Модуль саморазвития (SoftSkills)
LOCATION:DL Дистанционно
END:VEVENT
BEGIN:VEVENT
UID:7qsy@192.168.245.71:3006
SEQUENCE:0
DTSTAMP:20260424T061325Z
DTSTART:20251002T070000Z
DTEND:20251002T084000Z
SUMMARY:Высшая математика
LOCATION:ГЗ 224
END:VEVENT
BEGIN:VEVENT
UID:z2m4@192.168.245.71:3006
SEQUENCE:0
DTSTAMP:20260424T061325Z
DTSTART:20251002T090000Z
DTEND:20251002T104000Z
SUMMARY:Основы квантовой механики
LOCATION:ГЗ 279
END:VEVENT
BEGIN:VEVENT
UID:4jx8@192.168.245.71:3006
SEQUENCE:0
DTSTAMP:20260424T061325Z
DTSTART:20251002T110000Z
DTEND:20251002T124000Z
SUMMARY:Основы квантовой механики
LOCATION:ГЗ 305
END:VEVENT
BEGIN:VEVENT
UID:fxk3@192.168.245.71:3006
SEQUENCE:0
DTSTAMP:20260424T061325Z
DTSTART:20251002T130000Z
DTEND:20251002T144000Z
SUMMARY:Иностранный язык: Базовый курс
LOCATION:ГЗ 210
END:VEVENT
BEGIN:VEVENT
UID:rhgl@192.168.245.71:3006
SEQUENCE:0
DTSTAMP:20260424T061325Z
DTSTART:20251003T070000Z
DTEND:20251003T084000Z
SUMMARY:История России
LOCATION:ГЗ 244
END:VEVENT
BEGIN:VEVENT
UID:snn9@192.168.245.71:3006
SEQUENCE:0
DTSTAMP:20260424T061325Z
DTSTART:20251003T090000Z
DTEND:20251003T104000Z
SUMMARY:Механика жидкости и газа
LOCATION:ГЗ 224
END:VEVENT
BEGIN:VEVENT
UID:w8pj@192.168.245.71:3006
SEQUENCE:0
DTSTAMP:20260424T061325Z
DTSTART:20251003T110000Z
DTEND:20251003T124000Z
SUMMARY:Элективная физическая культура и спорт
LOCATION:СК Секции
END:VEVENT
BEGIN:VEVENT
UID:ibuo@192.168.245.71:3006
SEQUENCE:0
DTSTAMP:20260424T061325Z
DTSTART:20251004T060000Z
DTEND:20251004T083000Z
SUMMARY:Иностранный язык: Русский язык как иностранный
LOCATION:ГЗ 229
END:VEVENT
END:VCALENDAR