BEGIN:VCALENDAR
VERSION:2.0
PRODID:-//spbstu.ru//ical//RU
NAME:Расписание группы 3231301/30101
X-WR-CALNAME:Расписание группы 3231301/30101
TIMEZONE-ID:Europe/Moscow
X-WR-TIMEZONE:Europe/Moscow
BEGIN:VEVENT
UID:f8o1@192.168.245.71:3006
SEQUENCE:0
DTSTAMP:20260424T084433Z
DTSTART:20250922T090000Z
DTEND:20250922T104000Z
SUMMARY:Теплофикация и теплоснабжение
LOCATION:ГЗ 279
END:VEVENT
BEGIN:VEVENT
UID:t8xj@192.168.245.71:3006
SEQUENCE:0
DTSTAMP:20260424T084433Z
DTSTART:20250922T110000Z
DTEND:20250922T124000Z
SUMMARY:Теплофикация и теплоснабжение
LOCATION:ГЗ 279
END:VEVENT
BEGIN:VEVENT
UID:tck1@192.168.245.71:3006
SEQUENCE:0
DTSTAMP:20260424T084433Z
DTSTART:20250922T130000Z
DTEND:20250922T144000Z
SUMMARY:Водоподготовка
LOCATION:ГЗ 283
END:VEVENT
BEGIN:VEVENT
UID:y58y@192.168.245.71:3006
SEQUENCE:0
DTSTAMP:20260424T084433Z
DTSTART:20250923T090000Z
DTEND:20250923T104000Z
SUMMARY:Теория горения
LOCATION:ГЗ 279
END:VEVENT
BEGIN:VEVENT
UID:x1pd@192.168.245.71:3006
SEQUENCE:0
DTSTAMP:20260424T084433Z
DTSTART:20250923T110000Z
DTEND:20250923T124000Z
SUMMARY:Теория горения
LOCATION:ГЗ 279
END:VEVENT
BEGIN:VEVENT
UID:b2f7@192.168.245.71:3006
SEQUENCE:0
DTSTAMP:20260424T084433Z
DTSTART:20250923T130000Z
DTEND:20250923T144000Z
SUMMARY:Электроника
LOCATION:ГЗ 283
END:VEVENT
BEGIN:VEVENT
UID:px9w@192.168.245.71:3006
SEQUENCE:0
DTSTAMP:20260424T084433Z
DTSTART:20250924T070000Z
DTEND:20250924T143000Z
SUMMARY:Военная подготовка
LOCATION:Военная каф. кафедра
END:VEVENT
BEGIN:VEVENT
UID:mb8o@192.168.245.71:3006
SEQUENCE:0
DTSTAMP:20260424T084433Z
DTSTART:20250925T090000Z
DTEND:20250925T104000Z
SUMMARY:Теплогидравлические процессы в энергетическом оборудовании
LOCATION:Мех. к. 14
END:VEVENT
BEGIN:VEVENT
UID:gujy@192.168.245.71:3006
SEQUENCE:0
DTSTAMP:20260424T084433Z
DTSTART:20250925T110000Z
DTEND:20250925T124000Z
SUMMARY:Иностранный язык. Профессионально-ориентированный курс
LOCATION:ГЗ 208
END:VEVENT
BEGIN:VEVENT
UID:9ae2@192.168.245.71:3006
SEQUENCE:0
DTSTAMP:20260424T084433Z
DTSTART:20250925T130000Z
DTEND:20250925T144000Z
SUMMARY:Теплогидравлические процессы в энергетическом оборудовании
LOCATION:Мех. к. 14
END:VEVENT
BEGIN:VEVENT
UID:rgvn@192.168.245.71:3006
SEQUENCE:0
DTSTAMP:20260424T084433Z
DTSTART:20250926T090000Z
DTEND:20250926T104000Z
SUMMARY:Газотурбинные установки
LOCATION:ТВН ВШАиТЭ уч.ауд.№102
END:VEVENT
BEGIN:VEVENT
UID:npns@192.168.245.71:3006
SEQUENCE:0
DTSTAMP:20260424T084433Z
DTSTART:20250926T110000Z
DTEND:20250926T124000Z
SUMMARY:Детали машин и основы конструирования
LOCATION:ГЗ 219
END:VEVENT
BEGIN:VEVENT
UID:79rv@192.168.245.71:3006
SEQUENCE:0
DTSTAMP:20260424T084433Z
DTSTART:20250926T130000Z
DTEND:20250926T144000Z
SUMMARY:Водоподготовка
LOCATION:Мех. к. лаб. 21 Водоподготовка
END:VEVENT
BEGIN:VEVENT
UID:z3lo@192.168.245.71:3006
SEQUENCE:0
DTSTAMP:20260424T084433Z
DTSTART:20250927T050000Z
DTEND:20250927T083000Z
SUMMARY:Военная подготовка
LOCATION:Военная каф. кафедра
END:VEVENT
END:VCALENDAR