BEGIN:VCALENDAR
VERSION:2.0
PRODID:-//spbstu.ru//ical//RU
NAME:Расписание группы 3231301/30101
X-WR-CALNAME:Расписание группы 3231301/30101
TIMEZONE-ID:Europe/Moscow
X-WR-TIMEZONE:Europe/Moscow
BEGIN:VEVENT
UID:bfof@192.168.245.71:3006
SEQUENCE:0
DTSTAMP:20260422T094446Z
DTSTART:20260113T070000Z
DTEND:20260113T084000Z
SUMMARY:Электроника
LOCATION:ГЗ 244
END:VEVENT
BEGIN:VEVENT
UID:b06n@192.168.245.71:3006
SEQUENCE:0
DTSTAMP:20260422T094446Z
DTSTART:20260114T070000Z
DTEND:20260114T130000Z
SUMMARY:Электроника
LOCATION:ГЗ 244
END:VEVENT
BEGIN:VEVENT
UID:1n59@192.168.245.71:3006
SEQUENCE:0
DTSTAMP:20260422T094446Z
DTSTART:20260116T070000Z
DTEND:20260116T084000Z
SUMMARY:Теплофикация и теплоснабжение
LOCATION:ГЗ 107
END:VEVENT
BEGIN:VEVENT
UID:ro2c@192.168.245.71:3006
SEQUENCE:0
DTSTAMP:20260422T094446Z
DTSTART:20260117T070000Z
DTEND:20260117T130000Z
SUMMARY:Теплофикация и теплоснабжение
LOCATION:ГЗ 107
END:VEVENT
END:VCALENDAR