BEGIN:VCALENDAR
VERSION:2.0
PRODID:-//spbstu.ru//ical//RU
NAME:Расписание группы 3231301/30101
X-WR-CALNAME:Расписание группы 3231301/30101
TIMEZONE-ID:Europe/Moscow
X-WR-TIMEZONE:Europe/Moscow
BEGIN:VEVENT
UID:ps0w@192.168.245.71:3006
SEQUENCE:0
DTSTAMP:20260420T221803Z
DTSTART:20260504T070000Z
DTEND:20260504T084000Z
SUMMARY:Котельные установки и парогенераторы
LOCATION:ГЗ 211
END:VEVENT
BEGIN:VEVENT
UID:vkp2@192.168.245.71:3006
SEQUENCE:0
DTSTAMP:20260420T221803Z
DTSTART:20260504T090000Z
DTEND:20260504T104000Z
SUMMARY:Котельные установки и парогенераторы
LOCATION:ГЗ 211
END:VEVENT
BEGIN:VEVENT
UID:zt4r@192.168.245.71:3006
SEQUENCE:0
DTSTAMP:20260420T221803Z
DTSTART:20260504T110000Z
DTEND:20260504T124000Z
SUMMARY:Тепловые двигатели
LOCATION:Мех. к. Уч. кл. ДВС №82
END:VEVENT
BEGIN:VEVENT
UID:7p5h@192.168.245.71:3006
SEQUENCE:0
DTSTAMP:20260420T221803Z
DTSTART:20260505T070000Z
DTEND:20260505T084000Z
SUMMARY:Экспериментальные методы исследования
LOCATION:Мех. к. 14
END:VEVENT
BEGIN:VEVENT
UID:pqer@192.168.245.71:3006
SEQUENCE:0
DTSTAMP:20260420T221803Z
DTSTART:20260505T090000Z
DTEND:20260505T104000Z
SUMMARY:Нетрадиционные и возобновляемые источники энергии
LOCATION:ТВН ВШАиТЭ уч.ауд.№102
END:VEVENT
BEGIN:VEVENT
UID:uazr@192.168.245.71:3006
SEQUENCE:0
DTSTAMP:20260420T221803Z
DTSTART:20260505T110000Z
DTEND:20260505T124000Z
SUMMARY:Технологические процессы при подготовке и использовании органическ
 их топлив (на английском языке)
LOCATION:ТВН ВШАиТЭ уч.ауд.№102
END:VEVENT
BEGIN:VEVENT
UID:mrmd@192.168.245.71:3006
SEQUENCE:0
DTSTAMP:20260420T221803Z
DTSTART:20260506T070000Z
DTEND:20260506T143000Z
SUMMARY:Военная подготовка
LOCATION:Военная каф. кафедра
END:VEVENT
BEGIN:VEVENT
UID:d92k@192.168.245.71:3006
SEQUENCE:0
DTSTAMP:20260420T221803Z
DTSTART:20260507T070000Z
DTEND:20260507T084000Z
SUMMARY:Отопление\, вентиляция и кондиционирование
LOCATION:ТВН ВШАиТЭ уч.ауд.№102
END:VEVENT
BEGIN:VEVENT
UID:itqu@192.168.245.71:3006
SEQUENCE:0
DTSTAMP:20260420T221803Z
DTSTART:20260507T090000Z
DTEND:20260507T104000Z
SUMMARY:Компрессоры и вентиляторы
LOCATION:Мех. к. Лаб. компрессоростроения №38
END:VEVENT
BEGIN:VEVENT
UID:yc0a@192.168.245.71:3006
SEQUENCE:0
DTSTAMP:20260420T221803Z
DTSTART:20260507T110000Z
DTEND:20260507T124000Z
SUMMARY:Компрессоры и вентиляторы
LOCATION:Мех. к. Лаб. компрессоростроения №38
END:VEVENT
BEGIN:VEVENT
UID:6zqf@192.168.245.71:3006
SEQUENCE:0
DTSTAMP:20260420T221803Z
DTSTART:20260507T130000Z
DTEND:20260507T144000Z
SUMMARY:Информационные технологии в энергетике
LOCATION:ТВН ВШАиТЭ комп.кл.
END:VEVENT
END:VCALENDAR