BEGIN:VCALENDAR
VERSION:2.0
PRODID:-//spbstu.ru//ical//RU
NAME:Расписание группы 3231302/30602
X-WR-CALNAME:Расписание группы 3231302/30602
TIMEZONE-ID:Europe/Moscow
X-WR-TIMEZONE:Europe/Moscow
BEGIN:VEVENT
UID:kfrv@192.168.245.71:3006
SEQUENCE:0
DTSTAMP:20260424T164750Z
DTSTART:20251006T090000Z
DTEND:20251006T104000Z
SUMMARY:Электрические и электронные аппараты
LOCATION:ГЗ 253
END:VEVENT
BEGIN:VEVENT
UID:2mu8@192.168.245.71:3006
SEQUENCE:0
DTSTAMP:20260424T164750Z
DTSTART:20251006T110000Z
DTEND:20251006T124000Z
SUMMARY:Теоретические основы электротехники
LOCATION:ГЗ 181
END:VEVENT
BEGIN:VEVENT
UID:49sw@192.168.245.71:3006
SEQUENCE:0
DTSTAMP:20260424T164750Z
DTSTART:20251007T070000Z
DTEND:20251007T084000Z
SUMMARY:Основы конструирования
LOCATION:Мех. к. Конференц.зал
END:VEVENT
BEGIN:VEVENT
UID:fltj@192.168.245.71:3006
SEQUENCE:0
DTSTAMP:20260424T164750Z
DTSTART:20251008T050000Z
DTEND:20251008T133000Z
SUMMARY:Военная подготовка
LOCATION:Военная каф. кафедра
END:VEVENT
BEGIN:VEVENT
UID:f2of@192.168.245.71:3006
SEQUENCE:0
DTSTAMP:20260424T164750Z
DTSTART:20251009T070000Z
DTEND:20251009T084000Z
SUMMARY:Основы силовой электроники
LOCATION:ГЗ 280
END:VEVENT
BEGIN:VEVENT
UID:ls4e@192.168.245.71:3006
SEQUENCE:0
DTSTAMP:20260424T164750Z
DTSTART:20251009T090000Z
DTEND:20251009T104000Z
SUMMARY:Основы силовой электроники
LOCATION:17 уч.к. 308
END:VEVENT
BEGIN:VEVENT
UID:reoc@192.168.245.71:3006
SEQUENCE:0
DTSTAMP:20260424T164750Z
DTSTART:20251009T090000Z
DTEND:20251009T104000Z
SUMMARY:Основы силовой электроники
LOCATION:17 уч.к. 308
END:VEVENT
BEGIN:VEVENT
UID:t0kk@192.168.245.71:3006
SEQUENCE:0
DTSTAMP:20260424T164750Z
DTSTART:20251009T110000Z
DTEND:20251009T124000Z
SUMMARY:Теоретические основы электротехники
LOCATION:ГЗ 181
END:VEVENT
BEGIN:VEVENT
UID:yt7w@192.168.245.71:3006
SEQUENCE:0
DTSTAMP:20260424T164750Z
DTSTART:20251010T090000Z
DTEND:20251010T104000Z
SUMMARY:Иностранный язык. Профессионально-ориентированный курс
LOCATION:ГЗ 230
END:VEVENT
BEGIN:VEVENT
UID:ulh2@192.168.245.71:3006
SEQUENCE:0
DTSTAMP:20260424T164750Z
DTSTART:20251010T110000Z
DTEND:20251010T124000Z
SUMMARY:Теоретические основы электротехники
LOCATION:ГЗ 122
END:VEVENT
BEGIN:VEVENT
UID:h99v@192.168.245.71:3006
SEQUENCE:0
DTSTAMP:20260424T164750Z
DTSTART:20251010T130000Z
DTEND:20251010T144000Z
SUMMARY:Современные системы автоматизированного проектирования
LOCATION:ГЗ 163
END:VEVENT
BEGIN:VEVENT
UID:rm6r@192.168.245.71:3006
SEQUENCE:0
DTSTAMP:20260424T164750Z
DTSTART:20251011T050000Z
DTEND:20251011T084000Z
SUMMARY:Военная подготовка
LOCATION:Военная каф. кафедра
END:VEVENT
BEGIN:VEVENT
UID:q2bt@192.168.245.71:3006
SEQUENCE:0
DTSTAMP:20260424T164750Z
DTSTART:20251011T070000Z
DTEND:20251011T084000Z
SUMMARY:Микропроцессорные устройства
LOCATION:ТВН-2 2- к
END:VEVENT
BEGIN:VEVENT
UID:4kfd@192.168.245.71:3006
SEQUENCE:0
DTSTAMP:20260424T164750Z
DTSTART:20251011T090000Z
DTEND:20251011T104000Z
SUMMARY:Микропроцессорные устройства
LOCATION:ГЗ 282
END:VEVENT
END:VCALENDAR