BEGIN:VCALENDAR
VERSION:2.0
PRODID:-//spbstu.ru//ical//RU
NAME:Расписание группы 3231302/30602
X-WR-CALNAME:Расписание группы 3231302/30602
TIMEZONE-ID:Europe/Moscow
X-WR-TIMEZONE:Europe/Moscow
BEGIN:VEVENT
UID:rgjr@192.168.245.71:3006
SEQUENCE:0
DTSTAMP:20260421T052029Z
DTSTART:20260310T070000Z
DTEND:20260310T084000Z
SUMMARY:Электрические машины
LOCATION:Мех. к. Конференц.зал
END:VEVENT
BEGIN:VEVENT
UID:zy1o@192.168.245.71:3006
SEQUENCE:0
DTSTAMP:20260421T052029Z
DTSTART:20260310T090000Z
DTEND:20260310T104000Z
SUMMARY:Технология изготовления и испытания электрических машин
LOCATION:Мех. к. Конференц.зал
END:VEVENT
BEGIN:VEVENT
UID:lxec@192.168.245.71:3006
SEQUENCE:0
DTSTAMP:20260421T052029Z
DTSTART:20260310T110000Z
DTEND:20260310T124000Z
SUMMARY:Электрические системы и сети
LOCATION:Мех. к. 11
END:VEVENT
BEGIN:VEVENT
UID:da5g@192.168.245.71:3006
SEQUENCE:0
DTSTAMP:20260421T052029Z
DTSTART:20260311T070000Z
DTEND:20260311T143000Z
SUMMARY:Военная подготовка
LOCATION:Военная каф. кафедра
END:VEVENT
BEGIN:VEVENT
UID:unw3@192.168.245.71:3006
SEQUENCE:0
DTSTAMP:20260421T052029Z
DTSTART:20260313T070000Z
DTEND:20260313T084000Z
SUMMARY:Электрооборудование промышленности. Электротехнологические процесс
 ы\, установки и системы
LOCATION:ГЗ 244
END:VEVENT
BEGIN:VEVENT
UID:buk6@192.168.245.71:3006
SEQUENCE:0
DTSTAMP:20260421T052029Z
DTSTART:20260313T090000Z
DTEND:20260313T104000Z
SUMMARY:Компьютерные технологии решения нелинейных задач электротехники
LOCATION:ГЗ 224
END:VEVENT
BEGIN:VEVENT
UID:guin@192.168.245.71:3006
SEQUENCE:0
DTSTAMP:20260421T052029Z
DTSTART:20260313T110000Z
DTEND:20260313T124000Z
SUMMARY:Электрооборудование промышленности. Электротехнологические процесс
 ы\, установки и системы
LOCATION:ГЗ ЭиЭ-ЭТУ-1
END:VEVENT
BEGIN:VEVENT
UID:mani@192.168.245.71:3006
SEQUENCE:0
DTSTAMP:20260421T052029Z
DTSTART:20260313T110000Z
DTEND:20260313T124000Z
SUMMARY:Электрооборудование промышленности. Электротехнологические процесс
 ы\, установки и системы
LOCATION:ГЗ ЭиЭ-ЭТУ-1
END:VEVENT
END:VCALENDAR