BEGIN:VCALENDAR
VERSION:2.0
PRODID:-//spbstu.ru//ical//RU
NAME:Расписание группы 3231302/30602
X-WR-CALNAME:Расписание группы 3231302/30602
TIMEZONE-ID:Europe/Moscow
X-WR-TIMEZONE:Europe/Moscow
BEGIN:VEVENT
UID:sqeo@192.168.245.71:3006
SEQUENCE:0
DTSTAMP:20260421T011027Z
DTSTART:20260518T070000Z
DTEND:20260518T084000Z
SUMMARY:Электрические системы и сети
LOCATION:Мех. к. 10
END:VEVENT
BEGIN:VEVENT
UID:my4g@192.168.245.71:3006
SEQUENCE:0
DTSTAMP:20260421T011027Z
DTSTART:20260518T090000Z
DTEND:20260518T104000Z
SUMMARY:Проектирование устройств силовой электроники
LOCATION:ГЗ 225
END:VEVENT
BEGIN:VEVENT
UID:37b9@192.168.245.71:3006
SEQUENCE:0
DTSTAMP:20260421T011027Z
DTSTART:20260518T110000Z
DTEND:20260518T124000Z
SUMMARY:Электрическая изоляция
LOCATION:ТВН 305
END:VEVENT
BEGIN:VEVENT
UID:zzii@192.168.245.71:3006
SEQUENCE:0
DTSTAMP:20260421T011027Z
DTSTART:20260520T070000Z
DTEND:20260520T143000Z
SUMMARY:Военная подготовка
LOCATION:Военная каф. кафедра
END:VEVENT
BEGIN:VEVENT
UID:1y93@192.168.245.71:3006
SEQUENCE:0
DTSTAMP:20260421T011027Z
DTSTART:20260522T070000Z
DTEND:20260522T084000Z
SUMMARY:Электрооборудование промышленности. Электротехнологические процесс
 ы\, установки и системы
LOCATION:ГЗ 244
END:VEVENT
BEGIN:VEVENT
UID:nspk@192.168.245.71:3006
SEQUENCE:0
DTSTAMP:20260421T011027Z
DTSTART:20260522T090000Z
DTEND:20260522T104000Z
SUMMARY:Компьютерные технологии решения нелинейных задач электротехники
LOCATION:ГЗ 224
END:VEVENT
END:VCALENDAR