BEGIN:VCALENDAR
VERSION:2.0
PRODID:-//spbstu.ru//ical//RU
NAME:Расписание группы 3231302/30701
X-WR-CALNAME:Расписание группы 3231302/30701
TIMEZONE-ID:Europe/Moscow
X-WR-TIMEZONE:Europe/Moscow
BEGIN:VEVENT
UID:fg5q@192.168.245.71:3006
SEQUENCE:0
DTSTAMP:20260426T023122Z
DTSTART:20251103T070000Z
DTEND:20251103T110000Z
SUMMARY:Лабораторный научно-исследовательский практикум
LOCATION:ТВН 301
END:VEVENT
BEGIN:VEVENT
UID:d9gh@192.168.245.71:3006
SEQUENCE:0
DTSTAMP:20260426T023122Z
DTSTART:20251103T070000Z
DTEND:20251103T110000Z
SUMMARY:Лабораторный научно-исследовательский практикум
LOCATION:ТВН 301
END:VEVENT
BEGIN:VEVENT
UID:1jep@192.168.245.71:3006
SEQUENCE:0
DTSTAMP:20260426T023122Z
DTSTART:20251105T050000Z
DTEND:20251105T133000Z
SUMMARY:Военная подготовка
LOCATION:Военная каф. кафедра
END:VEVENT
BEGIN:VEVENT
UID:36hk@192.168.245.71:3006
SEQUENCE:0
DTSTAMP:20260426T023122Z
DTSTART:20251106T070000Z
DTEND:20251106T084000Z
SUMMARY:Электрические и электронные аппараты
LOCATION:17 уч.к. 309
END:VEVENT
BEGIN:VEVENT
UID:4fo7@192.168.245.71:3006
SEQUENCE:0
DTSTAMP:20260426T023122Z
DTSTART:20251106T070000Z
DTEND:20251106T084000Z
SUMMARY:Электрические и электронные аппараты
LOCATION:17 уч.к. 309
END:VEVENT
BEGIN:VEVENT
UID:8xxy@192.168.245.71:3006
SEQUENCE:0
DTSTAMP:20260426T023122Z
DTSTART:20251106T090000Z
DTEND:20251106T104000Z
SUMMARY:Электрические машины
LOCATION:ГЗ 224
END:VEVENT
BEGIN:VEVENT
UID:abj4@192.168.245.71:3006
SEQUENCE:0
DTSTAMP:20260426T023122Z
DTSTART:20251106T110000Z
DTEND:20251106T124000Z
SUMMARY:Электроэнергетические системы
LOCATION:Мех. к. 9
END:VEVENT
BEGIN:VEVENT
UID:bzk2@192.168.245.71:3006
SEQUENCE:0
DTSTAMP:20260426T023122Z
DTSTART:20251107T050000Z
DTEND:20251107T064000Z
SUMMARY:Иностранный язык. Профессионально-ориентированный курс
LOCATION:ГЗ 240
END:VEVENT
BEGIN:VEVENT
UID:knyp@192.168.245.71:3006
SEQUENCE:0
DTSTAMP:20260426T023122Z
DTSTART:20251107T090000Z
DTEND:20251107T104000Z
SUMMARY:Техника высоких напряжений
LOCATION:ТВН 304
END:VEVENT
BEGIN:VEVENT
UID:g28o@192.168.245.71:3006
SEQUENCE:0
DTSTAMP:20260426T023122Z
DTSTART:20251107T110000Z
DTEND:20251107T124000Z
SUMMARY:Теоретические основы электротехники
LOCATION:ГЗ 122
END:VEVENT
BEGIN:VEVENT
UID:ywgz@192.168.245.71:3006
SEQUENCE:0
DTSTAMP:20260426T023122Z
DTSTART:20251108T050000Z
DTEND:20251108T084000Z
SUMMARY:Военная подготовка
LOCATION:Военная каф. кафедра
END:VEVENT
BEGIN:VEVENT
UID:r755@192.168.245.71:3006
SEQUENCE:0
DTSTAMP:20260426T023122Z
DTSTART:20251108T090000Z
DTEND:20251108T104000Z
SUMMARY:Основы электрофизических процессов в газах
LOCATION:ВИТ 401
END:VEVENT
BEGIN:VEVENT
UID:obqr@192.168.245.71:3006
SEQUENCE:0
DTSTAMP:20260426T023122Z
DTSTART:20251108T110000Z
DTEND:20251108T124000Z
SUMMARY:Основы электрофизических процессов в газах
LOCATION:ВИТ 401
END:VEVENT
END:VCALENDAR