BEGIN:VCALENDAR
VERSION:2.0
PRODID:-//spbstu.ru//ical//RU
NAME:Расписание группы 3231302/30701
X-WR-CALNAME:Расписание группы 3231302/30701
TIMEZONE-ID:Europe/Moscow
X-WR-TIMEZONE:Europe/Moscow
BEGIN:VEVENT
UID:adm4@192.168.245.71:3006
SEQUENCE:0
DTSTAMP:20260423T170935Z
DTSTART:20260302T090000Z
DTEND:20260302T104000Z
SUMMARY:Основы механики сплошной среды и теплопередачи
LOCATION:ТВН 302
END:VEVENT
BEGIN:VEVENT
UID:m5h2@192.168.245.71:3006
SEQUENCE:0
DTSTAMP:20260423T170935Z
DTSTART:20260302T110000Z
DTEND:20260302T124000Z
SUMMARY:Электрическое освещение
LOCATION:ВИТ 401
END:VEVENT
BEGIN:VEVENT
UID:xin7@192.168.245.71:3006
SEQUENCE:0
DTSTAMP:20260423T170935Z
DTSTART:20260302T130000Z
DTEND:20260302T144000Z
SUMMARY:Электрические станции
LOCATION:ТВН 305
END:VEVENT
BEGIN:VEVENT
UID:5zvf@192.168.245.71:3006
SEQUENCE:0
DTSTAMP:20260423T170935Z
DTSTART:20260303T070000Z
DTEND:20260303T084000Z
SUMMARY:Изоляция и перенапряжения
LOCATION:ТВН 301
END:VEVENT
BEGIN:VEVENT
UID:wfey@192.168.245.71:3006
SEQUENCE:0
DTSTAMP:20260423T170935Z
DTSTART:20260303T090000Z
DTEND:20260303T104000Z
SUMMARY:Основы электромагнитной совместимости
LOCATION:ТВН 301
END:VEVENT
BEGIN:VEVENT
UID:urz8@192.168.245.71:3006
SEQUENCE:0
DTSTAMP:20260423T170935Z
DTSTART:20260303T110000Z
DTEND:20260303T124000Z
SUMMARY:Основы механики сплошной среды и теплопередачи
LOCATION:ТВН 305
END:VEVENT
BEGIN:VEVENT
UID:6zde@192.168.245.71:3006
SEQUENCE:0
DTSTAMP:20260423T170935Z
DTSTART:20260304T070000Z
DTEND:20260304T143000Z
SUMMARY:Военная подготовка
LOCATION:Военная каф. кафедра
END:VEVENT
BEGIN:VEVENT
UID:d9eh@192.168.245.71:3006
SEQUENCE:0
DTSTAMP:20260423T170935Z
DTSTART:20260304T150000Z
DTEND:20260304T164000Z
SUMMARY:Иностранный язык. Профессионально-ориентированный курс
LOCATION:ГЗ 284
END:VEVENT
BEGIN:VEVENT
UID:52d3@192.168.245.71:3006
SEQUENCE:0
DTSTAMP:20260423T170935Z
DTSTART:20260305T070000Z
DTEND:20260305T104000Z
SUMMARY:Лабораторный научно-исследовательский практикум
LOCATION:ТВН 301
END:VEVENT
BEGIN:VEVENT
UID:4y54@192.168.245.71:3006
SEQUENCE:0
DTSTAMP:20260423T170935Z
DTSTART:20260305T070000Z
DTEND:20260305T104000Z
SUMMARY:Лабораторный научно-исследовательский практикум
LOCATION:ТВН 301
END:VEVENT
BEGIN:VEVENT
UID:on4c@192.168.245.71:3006
SEQUENCE:0
DTSTAMP:20260423T170935Z
DTSTART:20260306T070000Z
DTEND:20260306T084000Z
SUMMARY:Газоразрядные процессы в установках высокого напряжения
LOCATION:ВИТ 401
END:VEVENT
BEGIN:VEVENT
UID:spla@192.168.245.71:3006
SEQUENCE:0
DTSTAMP:20260423T170935Z
DTSTART:20260306T090000Z
DTEND:20260306T104000Z
SUMMARY:Электрические станции
LOCATION:ГЗ 244
END:VEVENT
BEGIN:VEVENT
UID:7513@192.168.245.71:3006
SEQUENCE:0
DTSTAMP:20260423T170935Z
DTSTART:20260307T090000Z
DTEND:20260307T104000Z
SUMMARY:Компьютерные технологии решения нелинейных задач электротехники
LOCATION:ВИТ 402
END:VEVENT
BEGIN:VEVENT
UID:3ged@192.168.245.71:3006
SEQUENCE:0
DTSTAMP:20260423T170935Z
DTSTART:20260307T110000Z
DTEND:20260307T124000Z
SUMMARY:Изоляция и перенапряжения
LOCATION:ВИТ 402
END:VEVENT
END:VCALENDAR