BEGIN:VCALENDAR
VERSION:2.0
PRODID:-//spbstu.ru//ical//RU
NAME:Расписание группы 3231302/30701
X-WR-CALNAME:Расписание группы 3231302/30701
TIMEZONE-ID:Europe/Moscow
X-WR-TIMEZONE:Europe/Moscow
BEGIN:VEVENT
UID:qtui@192.168.245.71:3006
SEQUENCE:0
DTSTAMP:20260421T015912Z
DTSTART:20260330T090000Z
DTEND:20260330T104000Z
SUMMARY:Основы механики сплошной среды и теплопередачи
LOCATION:ТВН 302
END:VEVENT
BEGIN:VEVENT
UID:rgm6@192.168.245.71:3006
SEQUENCE:0
DTSTAMP:20260421T015912Z
DTSTART:20260330T110000Z
DTEND:20260330T124000Z
SUMMARY:Электрическое освещение
LOCATION:ВИТ 401
END:VEVENT
BEGIN:VEVENT
UID:642y@192.168.245.71:3006
SEQUENCE:0
DTSTAMP:20260421T015912Z
DTSTART:20260331T070000Z
DTEND:20260331T084000Z
SUMMARY:Изоляция и перенапряжения
LOCATION:ТВН 301
END:VEVENT
BEGIN:VEVENT
UID:8rea@192.168.245.71:3006
SEQUENCE:0
DTSTAMP:20260421T015912Z
DTSTART:20260331T090000Z
DTEND:20260331T104000Z
SUMMARY:Основы электромагнитной совместимости
LOCATION:ТВН 301
END:VEVENT
BEGIN:VEVENT
UID:qa9x@192.168.245.71:3006
SEQUENCE:0
DTSTAMP:20260421T015912Z
DTSTART:20260331T110000Z
DTEND:20260331T124000Z
SUMMARY:Основы механики сплошной среды и теплопередачи
LOCATION:ТВН 305
END:VEVENT
BEGIN:VEVENT
UID:2g57@192.168.245.71:3006
SEQUENCE:0
DTSTAMP:20260421T015912Z
DTSTART:20260401T070000Z
DTEND:20260401T143000Z
SUMMARY:Военная подготовка
LOCATION:Военная каф. кафедра
END:VEVENT
BEGIN:VEVENT
UID:x699@192.168.245.71:3006
SEQUENCE:0
DTSTAMP:20260421T015912Z
DTSTART:20260402T070000Z
DTEND:20260402T104000Z
SUMMARY:Лабораторный научно-исследовательский практикум
LOCATION:ТВН 301
END:VEVENT
BEGIN:VEVENT
UID:gxf4@192.168.245.71:3006
SEQUENCE:0
DTSTAMP:20260421T015912Z
DTSTART:20260402T070000Z
DTEND:20260402T104000Z
SUMMARY:Лабораторный научно-исследовательский практикум
LOCATION:ТВН 301
END:VEVENT
BEGIN:VEVENT
UID:rrzf@192.168.245.71:3006
SEQUENCE:0
DTSTAMP:20260421T015912Z
DTSTART:20260403T070000Z
DTEND:20260403T084000Z
SUMMARY:Газоразрядные процессы в установках высокого напряжения
LOCATION:ВИТ 401
END:VEVENT
BEGIN:VEVENT
UID:f09a@192.168.245.71:3006
SEQUENCE:0
DTSTAMP:20260421T015912Z
DTSTART:20260403T090000Z
DTEND:20260403T104000Z
SUMMARY:Электрические станции
LOCATION:ГЗ 244
END:VEVENT
BEGIN:VEVENT
UID:ejjk@192.168.245.71:3006
SEQUENCE:0
DTSTAMP:20260421T015912Z
DTSTART:20260404T090000Z
DTEND:20260404T104000Z
SUMMARY:Компьютерные технологии решения нелинейных задач электротехники
LOCATION:ВИТ 402
END:VEVENT
BEGIN:VEVENT
UID:p5s5@192.168.245.71:3006
SEQUENCE:0
DTSTAMP:20260421T015912Z
DTSTART:20260404T110000Z
DTEND:20260404T124000Z
SUMMARY:Изоляция и перенапряжения
LOCATION:ВИТ 402
END:VEVENT
END:VCALENDAR