BEGIN:VCALENDAR
VERSION:2.0
PRODID:-//spbstu.ru//ical//RU
NAME:Расписание группы 3231302/30701
X-WR-CALNAME:Расписание группы 3231302/30701
TIMEZONE-ID:Europe/Moscow
X-WR-TIMEZONE:Europe/Moscow
BEGIN:VEVENT
UID:mn87@192.168.245.71:3006
SEQUENCE:0
DTSTAMP:20260421T032413Z
DTSTART:20260413T090000Z
DTEND:20260413T104000Z
SUMMARY:Основы механики сплошной среды и теплопередачи
LOCATION:ТВН 302
END:VEVENT
BEGIN:VEVENT
UID:fhf6@192.168.245.71:3006
SEQUENCE:0
DTSTAMP:20260421T032413Z
DTSTART:20260413T110000Z
DTEND:20260413T124000Z
SUMMARY:Электрическое освещение
LOCATION:ВИТ 401
END:VEVENT
BEGIN:VEVENT
UID:dss6@192.168.245.71:3006
SEQUENCE:0
DTSTAMP:20260421T032413Z
DTSTART:20260414T070000Z
DTEND:20260414T084000Z
SUMMARY:Изоляция и перенапряжения
LOCATION:ТВН 301
END:VEVENT
BEGIN:VEVENT
UID:gcaf@192.168.245.71:3006
SEQUENCE:0
DTSTAMP:20260421T032413Z
DTSTART:20260414T090000Z
DTEND:20260414T104000Z
SUMMARY:Основы электромагнитной совместимости
LOCATION:ТВН 301
END:VEVENT
BEGIN:VEVENT
UID:k498@192.168.245.71:3006
SEQUENCE:0
DTSTAMP:20260421T032413Z
DTSTART:20260414T110000Z
DTEND:20260414T124000Z
SUMMARY:Основы механики сплошной среды и теплопередачи
LOCATION:ТВН 305
END:VEVENT
BEGIN:VEVENT
UID:rrnj@192.168.245.71:3006
SEQUENCE:0
DTSTAMP:20260421T032413Z
DTSTART:20260415T070000Z
DTEND:20260415T143000Z
SUMMARY:Военная подготовка
LOCATION:Военная каф. кафедра
END:VEVENT
BEGIN:VEVENT
UID:p985@192.168.245.71:3006
SEQUENCE:0
DTSTAMP:20260421T032413Z
DTSTART:20260416T070000Z
DTEND:20260416T104000Z
SUMMARY:Лабораторный научно-исследовательский практикум
LOCATION:ТВН 301
END:VEVENT
BEGIN:VEVENT
UID:p6bu@192.168.245.71:3006
SEQUENCE:0
DTSTAMP:20260421T032413Z
DTSTART:20260416T070000Z
DTEND:20260416T104000Z
SUMMARY:Лабораторный научно-исследовательский практикум
LOCATION:ТВН 301
END:VEVENT
BEGIN:VEVENT
UID:yz6u@192.168.245.71:3006
SEQUENCE:0
DTSTAMP:20260421T032413Z
DTSTART:20260417T070000Z
DTEND:20260417T084000Z
SUMMARY:Газоразрядные процессы в установках высокого напряжения
LOCATION:ВИТ 401
END:VEVENT
BEGIN:VEVENT
UID:0wd7@192.168.245.71:3006
SEQUENCE:0
DTSTAMP:20260421T032413Z
DTSTART:20260417T090000Z
DTEND:20260417T104000Z
SUMMARY:Электрические станции
LOCATION:ГЗ 244
END:VEVENT
BEGIN:VEVENT
UID:fd22@192.168.245.71:3006
SEQUENCE:0
DTSTAMP:20260421T032413Z
DTSTART:20260418T090000Z
DTEND:20260418T104000Z
SUMMARY:Компьютерные технологии решения нелинейных задач электротехники
LOCATION:ВИТ 402
END:VEVENT
BEGIN:VEVENT
UID:lew3@192.168.245.71:3006
SEQUENCE:0
DTSTAMP:20260421T032413Z
DTSTART:20260418T110000Z
DTEND:20260418T124000Z
SUMMARY:Изоляция и перенапряжения
LOCATION:ВИТ 402
END:VEVENT
END:VCALENDAR