BEGIN:VCALENDAR
VERSION:2.0
PRODID:-//spbstu.ru//ical//RU
NAME:Расписание группы 3231302/31001
X-WR-CALNAME:Расписание группы 3231302/31001
TIMEZONE-ID:Europe/Moscow
X-WR-TIMEZONE:Europe/Moscow
BEGIN:VEVENT
UID:i3n6@192.168.245.71:3006
SEQUENCE:0
DTSTAMP:20260423T061044Z
DTSTART:20251117T090000Z
DTEND:20251117T104000Z
SUMMARY:Электрические и электронные аппараты
LOCATION:ГЗ 253
END:VEVENT
BEGIN:VEVENT
UID:tb0r@192.168.245.71:3006
SEQUENCE:0
DTSTAMP:20260423T061044Z
DTSTART:20251117T110000Z
DTEND:20251117T124000Z
SUMMARY:Микропроцессорные устройства
LOCATION:ТВН-2 2- к
END:VEVENT
BEGIN:VEVENT
UID:e4z3@192.168.245.71:3006
SEQUENCE:0
DTSTAMP:20260423T061044Z
DTSTART:20251118T090000Z
DTEND:20251118T104000Z
SUMMARY:Иностранный язык. Профессионально-ориентированный курс
LOCATION:ГЗ 222
END:VEVENT
BEGIN:VEVENT
UID:be5f@192.168.245.71:3006
SEQUENCE:0
DTSTAMP:20260423T061044Z
DTSTART:20251118T110000Z
DTEND:20251118T124000Z
SUMMARY:Моделирование электромагнитных и тепловых процессов в электроэнерг
 етическом оборудовании
LOCATION:ГЗ 163
END:VEVENT
BEGIN:VEVENT
UID:wzen@192.168.245.71:3006
SEQUENCE:0
DTSTAMP:20260423T061044Z
DTSTART:20251119T050000Z
DTEND:20251119T133000Z
SUMMARY:Военная подготовка
LOCATION:Военная каф. кафедра
END:VEVENT
BEGIN:VEVENT
UID:scru@192.168.245.71:3006
SEQUENCE:0
DTSTAMP:20260423T061044Z
DTSTART:20251120T070000Z
DTEND:20251120T084000Z
SUMMARY:Основы силовой электроники
LOCATION:ГЗ 280
END:VEVENT
BEGIN:VEVENT
UID:l299@192.168.245.71:3006
SEQUENCE:0
DTSTAMP:20260423T061044Z
DTSTART:20251120T090000Z
DTEND:20251120T104000Z
SUMMARY:Иностранный язык. Профессионально-ориентированный курс
LOCATION:ГЗ 230
END:VEVENT
BEGIN:VEVENT
UID:5upl@192.168.245.71:3006
SEQUENCE:0
DTSTAMP:20260423T061044Z
DTSTART:20251120T110000Z
DTEND:20251120T124000Z
SUMMARY:Современные системы автоматизированного проектирования
LOCATION:ГЗ 163
END:VEVENT
BEGIN:VEVENT
UID:14jp@192.168.245.71:3006
SEQUENCE:0
DTSTAMP:20260423T061044Z
DTSTART:20251120T130000Z
DTEND:20251120T144000Z
SUMMARY:Теоретические основы электротехники
LOCATION:ГЗ 276
END:VEVENT
BEGIN:VEVENT
UID:mtyu@192.168.245.71:3006
SEQUENCE:0
DTSTAMP:20260423T061044Z
DTSTART:20251120T130000Z
DTEND:20251120T144000Z
SUMMARY:Теоретические основы электротехники
LOCATION:ГЗ 276
END:VEVENT
BEGIN:VEVENT
UID:blik@192.168.245.71:3006
SEQUENCE:0
DTSTAMP:20260423T061044Z
DTSTART:20251121T110000Z
DTEND:20251121T124000Z
SUMMARY:Теоретические основы электротехники
LOCATION:ГЗ 122
END:VEVENT
BEGIN:VEVENT
UID:pezq@192.168.245.71:3006
SEQUENCE:0
DTSTAMP:20260423T061044Z
DTSTART:20251122T050000Z
DTEND:20251122T084000Z
SUMMARY:Военная подготовка
LOCATION:Военная каф. кафедра
END:VEVENT
BEGIN:VEVENT
UID:znvz@192.168.245.71:3006
SEQUENCE:0
DTSTAMP:20260423T061044Z
DTSTART:20251122T070000Z
DTEND:20251122T084000Z
SUMMARY:Электрические и электронные аппараты
LOCATION:17 уч.к. 309
END:VEVENT
BEGIN:VEVENT
UID:a02e@192.168.245.71:3006
SEQUENCE:0
DTSTAMP:20260423T061044Z
DTSTART:20251122T070000Z
DTEND:20251122T084000Z
SUMMARY:Электрические и электронные аппараты
LOCATION:17 уч.к. 309
END:VEVENT
BEGIN:VEVENT
UID:tlg2@192.168.245.71:3006
SEQUENCE:0
DTSTAMP:20260423T061044Z
DTSTART:20251122T090000Z
DTEND:20251122T104000Z
SUMMARY:Микропроцессорные устройства
LOCATION:ГЗ 282
END:VEVENT
BEGIN:VEVENT
UID:9q4v@192.168.245.71:3006
SEQUENCE:0
DTSTAMP:20260423T061044Z
DTSTART:20251122T110000Z
DTEND:20251122T124000Z
SUMMARY:Теоретические основы электротехники
LOCATION:ГЗ 180
END:VEVENT
END:VCALENDAR