BEGIN:VCALENDAR
VERSION:2.0
PRODID:-//spbstu.ru//ical//RU
NAME:Расписание группы 3231302/31001
X-WR-CALNAME:Расписание группы 3231302/31001
TIMEZONE-ID:Europe/Moscow
X-WR-TIMEZONE:Europe/Moscow
BEGIN:VEVENT
UID:tc4t@192.168.245.71:3006
SEQUENCE:0
DTSTAMP:20260423T012617Z
DTSTART:20251201T090000Z
DTEND:20251201T104000Z
SUMMARY:Электрические и электронные аппараты
LOCATION:ГЗ 253
END:VEVENT
BEGIN:VEVENT
UID:y89s@192.168.245.71:3006
SEQUENCE:0
DTSTAMP:20260423T012617Z
DTSTART:20251201T110000Z
DTEND:20251201T124000Z
SUMMARY:Микропроцессорные устройства
LOCATION:ТВН-2 2- к
END:VEVENT
BEGIN:VEVENT
UID:kszy@192.168.245.71:3006
SEQUENCE:0
DTSTAMP:20260423T012617Z
DTSTART:20251202T090000Z
DTEND:20251202T104000Z
SUMMARY:Иностранный язык. Профессионально-ориентированный курс
LOCATION:ГЗ 222
END:VEVENT
BEGIN:VEVENT
UID:pv7v@192.168.245.71:3006
SEQUENCE:0
DTSTAMP:20260423T012617Z
DTSTART:20251202T110000Z
DTEND:20251202T124000Z
SUMMARY:Моделирование электромагнитных и тепловых процессов в электроэнерг
 етическом оборудовании
LOCATION:ГЗ 163
END:VEVENT
BEGIN:VEVENT
UID:p409@192.168.245.71:3006
SEQUENCE:0
DTSTAMP:20260423T012617Z
DTSTART:20251204T070000Z
DTEND:20251204T084000Z
SUMMARY:Основы силовой электроники
LOCATION:ГЗ 280
END:VEVENT
BEGIN:VEVENT
UID:2pcc@192.168.245.71:3006
SEQUENCE:0
DTSTAMP:20260423T012617Z
DTSTART:20251204T090000Z
DTEND:20251204T104000Z
SUMMARY:Иностранный язык. Профессионально-ориентированный курс
LOCATION:ГЗ 230
END:VEVENT
BEGIN:VEVENT
UID:kcw1@192.168.245.71:3006
SEQUENCE:0
DTSTAMP:20260423T012617Z
DTSTART:20251204T110000Z
DTEND:20251204T124000Z
SUMMARY:Современные системы автоматизированного проектирования
LOCATION:ГЗ 163
END:VEVENT
BEGIN:VEVENT
UID:8dus@192.168.245.71:3006
SEQUENCE:0
DTSTAMP:20260423T012617Z
DTSTART:20251204T130000Z
DTEND:20251204T144000Z
SUMMARY:Теоретические основы электротехники
LOCATION:ГЗ 276
END:VEVENT
BEGIN:VEVENT
UID:4hyf@192.168.245.71:3006
SEQUENCE:0
DTSTAMP:20260423T012617Z
DTSTART:20251204T130000Z
DTEND:20251204T144000Z
SUMMARY:Теоретические основы электротехники
LOCATION:ГЗ 276
END:VEVENT
BEGIN:VEVENT
UID:cq41@192.168.245.71:3006
SEQUENCE:0
DTSTAMP:20260423T012617Z
DTSTART:20251205T110000Z
DTEND:20251205T124000Z
SUMMARY:Теоретические основы электротехники
LOCATION:ГЗ 122
END:VEVENT
BEGIN:VEVENT
UID:zm8p@192.168.245.71:3006
SEQUENCE:0
DTSTAMP:20260423T012617Z
DTSTART:20251206T050000Z
DTEND:20251206T084000Z
SUMMARY:Военная подготовка
LOCATION:Военная каф. кафедра
END:VEVENT
BEGIN:VEVENT
UID:1c4w@192.168.245.71:3006
SEQUENCE:0
DTSTAMP:20260423T012617Z
DTSTART:20251206T070000Z
DTEND:20251206T084000Z
SUMMARY:Электрические и электронные аппараты
LOCATION:17 уч.к. 309
END:VEVENT
BEGIN:VEVENT
UID:xlc5@192.168.245.71:3006
SEQUENCE:0
DTSTAMP:20260423T012617Z
DTSTART:20251206T070000Z
DTEND:20251206T084000Z
SUMMARY:Электрические и электронные аппараты
LOCATION:17 уч.к. 309
END:VEVENT
BEGIN:VEVENT
UID:xbbl@192.168.245.71:3006
SEQUENCE:0
DTSTAMP:20260423T012617Z
DTSTART:20251206T090000Z
DTEND:20251206T104000Z
SUMMARY:Микропроцессорные устройства
LOCATION:ГЗ 282
END:VEVENT
BEGIN:VEVENT
UID:393u@192.168.245.71:3006
SEQUENCE:0
DTSTAMP:20260423T012617Z
DTSTART:20251206T110000Z
DTEND:20251206T124000Z
SUMMARY:Теоретические основы электротехники
LOCATION:ГЗ 180
END:VEVENT
END:VCALENDAR