BEGIN:VCALENDAR
VERSION:2.0
PRODID:-//spbstu.ru//ical//RU
NAME:Расписание группы 3231302/31001
X-WR-CALNAME:Расписание группы 3231302/31001
TIMEZONE-ID:Europe/Moscow
X-WR-TIMEZONE:Europe/Moscow
BEGIN:VEVENT
UID:hwmz@192.168.245.71:3006
SEQUENCE:0
DTSTAMP:20260424T205850Z
DTSTART:20250915T090000Z
DTEND:20250915T104000Z
SUMMARY:Электрические и электронные аппараты
LOCATION:ГЗ 253
END:VEVENT
BEGIN:VEVENT
UID:asx3@192.168.245.71:3006
SEQUENCE:0
DTSTAMP:20260424T205850Z
DTSTART:20250915T110000Z
DTEND:20250915T124000Z
SUMMARY:Микропроцессорные устройства
LOCATION:ТВН-2 2- к
END:VEVENT
BEGIN:VEVENT
UID:hl73@192.168.245.71:3006
SEQUENCE:0
DTSTAMP:20260424T205850Z
DTSTART:20250915T130000Z
DTEND:20250915T144000Z
SUMMARY:Карьерная адаптивность
LOCATION:ГЗ 257
END:VEVENT
BEGIN:VEVENT
UID:qt0m@192.168.245.71:3006
SEQUENCE:0
DTSTAMP:20260424T205850Z
DTSTART:20250916T070000Z
DTEND:20250916T084000Z
SUMMARY:Моделирование электромагнитных и тепловых процессов в электроэнерг
 етическом оборудовании
LOCATION:ГЗ 282
END:VEVENT
BEGIN:VEVENT
UID:6kml@192.168.245.71:3006
SEQUENCE:0
DTSTAMP:20260424T205850Z
DTSTART:20250916T090000Z
DTEND:20250916T104000Z
SUMMARY:Иностранный язык. Профессионально-ориентированный курс
LOCATION:ГЗ 222
END:VEVENT
BEGIN:VEVENT
UID:c264@192.168.245.71:3006
SEQUENCE:0
DTSTAMP:20260424T205850Z
DTSTART:20250916T110000Z
DTEND:20250916T124000Z
SUMMARY:Моделирование электромагнитных и тепловых процессов в электроэнерг
 етическом оборудовании
LOCATION:ГЗ 163
END:VEVENT
BEGIN:VEVENT
UID:mmnm@192.168.245.71:3006
SEQUENCE:0
DTSTAMP:20260424T205850Z
DTSTART:20250917T050000Z
DTEND:20250917T133000Z
SUMMARY:Военная подготовка
LOCATION:Военная каф. кафедра
END:VEVENT
BEGIN:VEVENT
UID:8pnl@192.168.245.71:3006
SEQUENCE:0
DTSTAMP:20260424T205850Z
DTSTART:20250918T070000Z
DTEND:20250918T084000Z
SUMMARY:Основы силовой электроники
LOCATION:ГЗ 280
END:VEVENT
BEGIN:VEVENT
UID:bkqw@192.168.245.71:3006
SEQUENCE:0
DTSTAMP:20260424T205850Z
DTSTART:20250918T090000Z
DTEND:20250918T104000Z
SUMMARY:Основы силовой электроники
LOCATION:17 уч.к. 308
END:VEVENT
BEGIN:VEVENT
UID:01qv@192.168.245.71:3006
SEQUENCE:0
DTSTAMP:20260424T205850Z
DTSTART:20250918T090000Z
DTEND:20250918T104000Z
SUMMARY:Основы силовой электроники
LOCATION:17 уч.к. 308
END:VEVENT
BEGIN:VEVENT
UID:mjij@192.168.245.71:3006
SEQUENCE:0
DTSTAMP:20260424T205850Z
DTSTART:20250918T110000Z
DTEND:20250918T124000Z
SUMMARY:Современные системы автоматизированного проектирования
LOCATION:ГЗ 163
END:VEVENT
BEGIN:VEVENT
UID:tdim@192.168.245.71:3006
SEQUENCE:0
DTSTAMP:20260424T205850Z
DTSTART:20250918T130000Z
DTEND:20250918T144000Z
SUMMARY:Теоретические основы электротехники
LOCATION:ГЗ 181
END:VEVENT
BEGIN:VEVENT
UID:k4d7@192.168.245.71:3006
SEQUENCE:0
DTSTAMP:20260424T205850Z
DTSTART:20250919T110000Z
DTEND:20250919T124000Z
SUMMARY:Теоретические основы электротехники
LOCATION:ГЗ 122
END:VEVENT
BEGIN:VEVENT
UID:9l9z@192.168.245.71:3006
SEQUENCE:0
DTSTAMP:20260424T205850Z
DTSTART:20250920T050000Z
DTEND:20250920T084000Z
SUMMARY:Военная подготовка
LOCATION:Военная каф. кафедра
END:VEVENT
BEGIN:VEVENT
UID:53cx@192.168.245.71:3006
SEQUENCE:0
DTSTAMP:20260424T205850Z
DTSTART:20250920T090000Z
DTEND:20250920T104000Z
SUMMARY:Микропроцессорные устройства
LOCATION:ГЗ 282
END:VEVENT
BEGIN:VEVENT
UID:bug0@192.168.245.71:3006
SEQUENCE:0
DTSTAMP:20260424T205850Z
DTSTART:20250920T110000Z
DTEND:20250920T124000Z
SUMMARY:Теоретические основы электротехники
LOCATION:ГЗ 180
END:VEVENT
END:VCALENDAR