BEGIN:VCALENDAR
VERSION:2.0
PRODID:-//spbstu.ru//ical//RU
NAME:Расписание группы 3231302/31001
X-WR-CALNAME:Расписание группы 3231302/31001
TIMEZONE-ID:Europe/Moscow
X-WR-TIMEZONE:Europe/Moscow
BEGIN:VEVENT
UID:s8gc@192.168.245.71:3006
SEQUENCE:0
DTSTAMP:20260421T133920Z
DTSTART:20260209T070000Z
DTEND:20260209T084000Z
SUMMARY:Электрические системы и сети
LOCATION:Мех. к. 10
END:VEVENT
BEGIN:VEVENT
UID:jd97@192.168.245.71:3006
SEQUENCE:0
DTSTAMP:20260421T133920Z
DTSTART:20260209T090000Z
DTEND:20260209T104000Z
SUMMARY:Проектирование устройств силовой электроники
LOCATION:ГЗ 225
END:VEVENT
BEGIN:VEVENT
UID:zn4t@192.168.245.71:3006
SEQUENCE:0
DTSTAMP:20260421T133920Z
DTSTART:20260209T110000Z
DTEND:20260209T124000Z
SUMMARY:Автоматизация управления системами электроснабжения
LOCATION:ТВН-2 2- к
END:VEVENT
BEGIN:VEVENT
UID:mvtz@192.168.245.71:3006
SEQUENCE:0
DTSTAMP:20260421T133920Z
DTSTART:20260209T130000Z
DTEND:20260209T144000Z
SUMMARY:Автоматизация управления системами электроснабжения
LOCATION:ТВН-2 2- к
END:VEVENT
BEGIN:VEVENT
UID:srf0@192.168.245.71:3006
SEQUENCE:0
DTSTAMP:20260421T133920Z
DTSTART:20260209T130000Z
DTEND:20260209T164000Z
SUMMARY:Иностранный язык. Профессионально-ориентированный курс
LOCATION:ГЗ 244
END:VEVENT
BEGIN:VEVENT
UID:u448@192.168.245.71:3006
SEQUENCE:0
DTSTAMP:20260421T133920Z
DTSTART:20260210T050000Z
DTEND:20260210T064000Z
SUMMARY:Карьерная адаптивность
LOCATION:DL Дистанционно
END:VEVENT
BEGIN:VEVENT
UID:mi8e@192.168.245.71:3006
SEQUENCE:0
DTSTAMP:20260421T133920Z
DTSTART:20260210T070000Z
DTEND:20260210T084000Z
SUMMARY:Электрические машины
LOCATION:Мех. к. Конференц.зал
END:VEVENT
BEGIN:VEVENT
UID:xb6k@192.168.245.71:3006
SEQUENCE:0
DTSTAMP:20260421T133920Z
DTSTART:20260210T090000Z
DTEND:20260210T124000Z
SUMMARY:Электрические машины
LOCATION:ГЗ 218
END:VEVENT
BEGIN:VEVENT
UID:1wc4@192.168.245.71:3006
SEQUENCE:0
DTSTAMP:20260421T133920Z
DTSTART:20260210T090000Z
DTEND:20260210T124000Z
SUMMARY:Электрические машины
LOCATION:ГЗ 218
END:VEVENT
BEGIN:VEVENT
UID:lecx@192.168.245.71:3006
SEQUENCE:0
DTSTAMP:20260421T133920Z
DTSTART:20260211T070000Z
DTEND:20260211T143000Z
SUMMARY:Военная подготовка
LOCATION:Военная каф. кафедра
END:VEVENT
BEGIN:VEVENT
UID:liuu@192.168.245.71:3006
SEQUENCE:0
DTSTAMP:20260421T133920Z
DTSTART:20260212T070000Z
DTEND:20260212T084000Z
SUMMARY:Компьютерные технологии решения нелинейных задач электротехники
LOCATION:ГЗ 176
END:VEVENT
BEGIN:VEVENT
UID:1ibo@192.168.245.71:3006
SEQUENCE:0
DTSTAMP:20260421T133920Z
DTSTART:20260212T090000Z
DTEND:20260212T104000Z
SUMMARY:Измерительные устройства и аппараты
LOCATION:17 уч.к. 311
END:VEVENT
BEGIN:VEVENT
UID:3g75@192.168.245.71:3006
SEQUENCE:0
DTSTAMP:20260421T133920Z
DTSTART:20260212T110000Z
DTEND:20260212T124000Z
SUMMARY:Электрооборудование промышленности. Электротехнологические процесс
 ы\, установки и системы
LOCATION:ГЗ ЭиЭ-ЭТУ-1
END:VEVENT
BEGIN:VEVENT
UID:0x13@192.168.245.71:3006
SEQUENCE:0
DTSTAMP:20260421T133920Z
DTSTART:20260212T110000Z
DTEND:20260212T124000Z
SUMMARY:Электрооборудование промышленности. Электротехнологические процесс
 ы\, установки и системы
LOCATION:ГЗ ЭиЭ-ЭТУ-1
END:VEVENT
BEGIN:VEVENT
UID:nuof@192.168.245.71:3006
SEQUENCE:0
DTSTAMP:20260421T133920Z
DTSTART:20260213T070000Z
DTEND:20260213T084000Z
SUMMARY:Электрооборудование промышленности. Электротехнологические процесс
 ы\, установки и системы
LOCATION:ГЗ 280
END:VEVENT
BEGIN:VEVENT
UID:tflv@192.168.245.71:3006
SEQUENCE:0
DTSTAMP:20260421T133920Z
DTSTART:20260213T090000Z
DTEND:20260213T104000Z
SUMMARY:Компьютерные технологии решения нелинейных задач электротехники
LOCATION:ГЗ 224
END:VEVENT
END:VCALENDAR