BEGIN:VCALENDAR
VERSION:2.0
PRODID:-//spbstu.ru//ical//RU
NAME:Расписание группы 3231302/31001
X-WR-CALNAME:Расписание группы 3231302/31001
TIMEZONE-ID:Europe/Moscow
X-WR-TIMEZONE:Europe/Moscow
BEGIN:VEVENT
UID:e9q5@192.168.245.71:3006
SEQUENCE:0
DTSTAMP:20260421T015909Z
DTSTART:20260323T070000Z
DTEND:20260323T084000Z
SUMMARY:Электрические системы и сети
LOCATION:Мех. к. 10
END:VEVENT
BEGIN:VEVENT
UID:dlby@192.168.245.71:3006
SEQUENCE:0
DTSTAMP:20260421T015909Z
DTSTART:20260323T090000Z
DTEND:20260323T104000Z
SUMMARY:Проектирование устройств силовой электроники
LOCATION:ГЗ 225
END:VEVENT
BEGIN:VEVENT
UID:bszq@192.168.245.71:3006
SEQUENCE:0
DTSTAMP:20260421T015909Z
DTSTART:20260323T110000Z
DTEND:20260323T124000Z
SUMMARY:Автоматизация управления системами электроснабжения
LOCATION:ТВН-2 2- к
END:VEVENT
BEGIN:VEVENT
UID:b42a@192.168.245.71:3006
SEQUENCE:0
DTSTAMP:20260421T015909Z
DTSTART:20260323T130000Z
DTEND:20260323T144000Z
SUMMARY:Автоматизация управления системами электроснабжения
LOCATION:ТВН-2 2- к
END:VEVENT
BEGIN:VEVENT
UID:p4l1@192.168.245.71:3006
SEQUENCE:0
DTSTAMP:20260421T015909Z
DTSTART:20260324T070000Z
DTEND:20260324T084000Z
SUMMARY:Электрические машины
LOCATION:Мех. к. Конференц.зал
END:VEVENT
BEGIN:VEVENT
UID:1okd@192.168.245.71:3006
SEQUENCE:0
DTSTAMP:20260421T015909Z
DTSTART:20260324T090000Z
DTEND:20260324T124000Z
SUMMARY:Электрические машины
LOCATION:ГЗ 218
END:VEVENT
BEGIN:VEVENT
UID:ybew@192.168.245.71:3006
SEQUENCE:0
DTSTAMP:20260421T015909Z
DTSTART:20260324T090000Z
DTEND:20260324T124000Z
SUMMARY:Электрические машины
LOCATION:ГЗ 218
END:VEVENT
BEGIN:VEVENT
UID:p2yr@192.168.245.71:3006
SEQUENCE:0
DTSTAMP:20260421T015909Z
DTSTART:20260325T070000Z
DTEND:20260325T143000Z
SUMMARY:Военная подготовка
LOCATION:Военная каф. кафедра
END:VEVENT
BEGIN:VEVENT
UID:n3nq@192.168.245.71:3006
SEQUENCE:0
DTSTAMP:20260421T015909Z
DTSTART:20260326T070000Z
DTEND:20260326T084000Z
SUMMARY:Компьютерные технологии решения нелинейных задач электротехники
LOCATION:ГЗ 176
END:VEVENT
BEGIN:VEVENT
UID:4q9m@192.168.245.71:3006
SEQUENCE:0
DTSTAMP:20260421T015909Z
DTSTART:20260326T090000Z
DTEND:20260326T104000Z
SUMMARY:Измерительные устройства и аппараты
LOCATION:17 уч.к. 311
END:VEVENT
BEGIN:VEVENT
UID:uokv@192.168.245.71:3006
SEQUENCE:0
DTSTAMP:20260421T015909Z
DTSTART:20260326T110000Z
DTEND:20260326T124000Z
SUMMARY:Электрооборудование промышленности. Электротехнологические процесс
 ы\, установки и системы
LOCATION:ГЗ ЭиЭ-ЭТУ-1
END:VEVENT
BEGIN:VEVENT
UID:0s69@192.168.245.71:3006
SEQUENCE:0
DTSTAMP:20260421T015909Z
DTSTART:20260326T110000Z
DTEND:20260326T124000Z
SUMMARY:Электрооборудование промышленности. Электротехнологические процесс
 ы\, установки и системы
LOCATION:ГЗ ЭиЭ-ЭТУ-1
END:VEVENT
BEGIN:VEVENT
UID:a6j9@192.168.245.71:3006
SEQUENCE:0
DTSTAMP:20260421T015909Z
DTSTART:20260327T070000Z
DTEND:20260327T084000Z
SUMMARY:Электрооборудование промышленности. Электротехнологические процесс
 ы\, установки и системы
LOCATION:ГЗ 244
END:VEVENT
BEGIN:VEVENT
UID:q6n9@192.168.245.71:3006
SEQUENCE:0
DTSTAMP:20260421T015909Z
DTSTART:20260327T090000Z
DTEND:20260327T104000Z
SUMMARY:Компьютерные технологии решения нелинейных задач электротехники
LOCATION:ГЗ 215
END:VEVENT
END:VCALENDAR