BEGIN:VCALENDAR
VERSION:2.0
PRODID:-//spbstu.ru//ical//RU
NAME:Расписание группы 3231302/31001
X-WR-CALNAME:Расписание группы 3231302/31001
TIMEZONE-ID:Europe/Moscow
X-WR-TIMEZONE:Europe/Moscow
BEGIN:VEVENT
UID:nwjg@192.168.245.71:3006
SEQUENCE:0
DTSTAMP:20260420T221235Z
DTSTART:20260504T070000Z
DTEND:20260504T084000Z
SUMMARY:Электрические системы и сети
LOCATION:Мех. к. 10
END:VEVENT
BEGIN:VEVENT
UID:akpk@192.168.245.71:3006
SEQUENCE:0
DTSTAMP:20260420T221235Z
DTSTART:20260504T090000Z
DTEND:20260504T104000Z
SUMMARY:Проектирование устройств силовой электроники
LOCATION:ГЗ 225
END:VEVENT
BEGIN:VEVENT
UID:tmrj@192.168.245.71:3006
SEQUENCE:0
DTSTAMP:20260420T221235Z
DTSTART:20260504T110000Z
DTEND:20260504T124000Z
SUMMARY:Электрические системы и сети
LOCATION:Мех. к. 9
END:VEVENT
BEGIN:VEVENT
UID:yeq3@192.168.245.71:3006
SEQUENCE:0
DTSTAMP:20260420T221235Z
DTSTART:20260504T110000Z
DTEND:20260504T124000Z
SUMMARY:Автоматизация управления системами электроснабжения
LOCATION:ТВН-2 2- к
END:VEVENT
BEGIN:VEVENT
UID:h5xq@192.168.245.71:3006
SEQUENCE:0
DTSTAMP:20260420T221235Z
DTSTART:20260504T130000Z
DTEND:20260504T144000Z
SUMMARY:Автоматизация управления системами электроснабжения
LOCATION:ТВН-2 2- к
END:VEVENT
BEGIN:VEVENT
UID:obc8@192.168.245.71:3006
SEQUENCE:0
DTSTAMP:20260420T221235Z
DTSTART:20260505T070000Z
DTEND:20260505T084000Z
SUMMARY:Электрические машины
LOCATION:Мех. к. Конференц.зал
END:VEVENT
BEGIN:VEVENT
UID:zpk6@192.168.245.71:3006
SEQUENCE:0
DTSTAMP:20260420T221235Z
DTSTART:20260505T090000Z
DTEND:20260505T120000Z
SUMMARY:Электрические машины
LOCATION:ГЗ 218
END:VEVENT
BEGIN:VEVENT
UID:yw8r@192.168.245.71:3006
SEQUENCE:0
DTSTAMP:20260420T221235Z
DTSTART:20260505T090000Z
DTEND:20260505T120000Z
SUMMARY:Электрические машины
LOCATION:ГЗ 218
END:VEVENT
BEGIN:VEVENT
UID:k83j@192.168.245.71:3006
SEQUENCE:0
DTSTAMP:20260420T221235Z
DTSTART:20260506T070000Z
DTEND:20260506T143000Z
SUMMARY:Военная подготовка
LOCATION:Военная каф. кафедра
END:VEVENT
BEGIN:VEVENT
UID:08wf@192.168.245.71:3006
SEQUENCE:0
DTSTAMP:20260420T221235Z
DTSTART:20260507T070000Z
DTEND:20260507T084000Z
SUMMARY:Компьютерные технологии решения нелинейных задач электротехники
LOCATION:ГЗ 176
END:VEVENT
BEGIN:VEVENT
UID:ml39@192.168.245.71:3006
SEQUENCE:0
DTSTAMP:20260420T221235Z
DTSTART:20260507T090000Z
DTEND:20260507T104000Z
SUMMARY:Измерительные устройства и аппараты
LOCATION:17 уч.к. 311
END:VEVENT
BEGIN:VEVENT
UID:4fz8@192.168.245.71:3006
SEQUENCE:0
DTSTAMP:20260420T221235Z
DTSTART:20260507T110000Z
DTEND:20260507T124000Z
SUMMARY:Электрооборудование промышленности. Электротехнологические процесс
 ы\, установки и системы
LOCATION:ГЗ ЭиЭ-ЭТУ-1
END:VEVENT
BEGIN:VEVENT
UID:kx2n@192.168.245.71:3006
SEQUENCE:0
DTSTAMP:20260420T221235Z
DTSTART:20260507T110000Z
DTEND:20260507T124000Z
SUMMARY:Электрооборудование промышленности. Электротехнологические процесс
 ы\, установки и системы
LOCATION:ГЗ ЭиЭ-ЭТУ-1
END:VEVENT
BEGIN:VEVENT
UID:xbij@192.168.245.71:3006
SEQUENCE:0
DTSTAMP:20260420T221235Z
DTSTART:20260508T070000Z
DTEND:20260508T084000Z
SUMMARY:Электрооборудование промышленности. Электротехнологические процесс
 ы\, установки и системы
LOCATION:ГЗ 244
END:VEVENT
BEGIN:VEVENT
UID:i22u@192.168.245.71:3006
SEQUENCE:0
DTSTAMP:20260420T221235Z
DTSTART:20260508T090000Z
DTEND:20260508T104000Z
SUMMARY:Компьютерные технологии решения нелинейных задач электротехники
LOCATION:ГЗ 224
END:VEVENT
END:VCALENDAR