BEGIN:VCALENDAR
VERSION:2.0
PRODID:-//spbstu.ru//ical//RU
NAME:Расписание группы 3231302/31001
X-WR-CALNAME:Расписание группы 3231302/31001
TIMEZONE-ID:Europe/Moscow
X-WR-TIMEZONE:Europe/Moscow
BEGIN:VEVENT
UID:sw2z@192.168.245.71:3006
SEQUENCE:0
DTSTAMP:20260421T070637Z
DTSTART:20260608T070000Z
DTEND:20260608T130000Z
SUMMARY:Электрооборудование промышленности. Электротехнологические процесс
 ы\, установки и системы
LOCATION:ГЗ 163
END:VEVENT
END:VCALENDAR